{"text_format":"1","workbook":"xlsx","n_sheets":7,"sheets":["要項","1_申込み確認Sheet","2_公認級申込Sheet","3_公認級申込書","4_公認段申込Sheet","5_公認段申込書","送付先"],"not_rendered":{"charts":0,"images":0,"macros":1,"external_links":0,"defined_names":2,"comments":5,"pivot_tables":0},"unopened":[],"bounds":{"document_bytes":16777216,"sheet_cells":100000,"rows_first":2000,"rows_last":500,"rows_between":2000,"halvings":0,"cell_chars":16384,"cell_head_chars":4096},"cells_cut":0,"cells_raw":0,"read":"whole","date_system":"1900"}

{"sheet":"要項","index":0,"n_rows":95,"n_cols":8,"rows_kept":95,"cut":false,"hidden":false,"merged":[[0,7,0,8],[7,0,7,8],[76,0,78,8],[82,1,85,6],[14,0,14,8],[3,7,3,8],[4,7,4,8],[5,7,5,8],[6,3,6,4]]}
[null,null,null,null,null,null,null,"令和3年7月13日"]
["宮城県空手道連盟"]
["加盟団体長　各位"]
[null,null,null,null,null,null,null,"宮城県空手道連盟"]
[null,null,null,null,null,null,null,"会　長　西村　明宏"]
[null,null,null,null,null,null,null,"（　公印省略　）"]
[]
["令和3年度　第1回 宮城県空手道連盟　公認級段位審査会　実施要項"]
[]
["　標記につきまして、ご案内いたします。"]
["　今年度、第1回目の公認級段位資格につきまして全空連からの公認段位審査に関して（通知）に基づき下記の要項"]
["で実施いたします。",null,null,"　"]
["　つきましては、貴団体の所属会員に周知していただき手続きをお願いいたします。"]
[]
["記"]
[]
["１．日　時　　令和3年8月8日（日）9：00～"]
[]
["2．場　所　　東北学院高等学校空手道場"]
["　　　　　　　　　仙台市宮城野区小鶴字高野123-1"]
["　　　　　　　　　℡022-786-1231"]
[]
["公認審査について"]
["3．公認級位の認定（実技試験の免除）"]
["　　１）公認級審査について、所属道場の推薦により申請することができる。"]
["　　２）中学校・高等学校及び大学の部活動部員で1年間以上の活動実績のある者は、部活動の顧問または監督の"]
["　　　推薦により申請することができる。"]
[]
["4．公認少年初段位・公認初段位の認定（実技試験の免除）"]
["　　１）公認1級取得（必須）者は、所属道場の推薦により申請することができる。"]
["　　２）中学校・高等学校及び大学の部活動部員は、公認1級取得（必須）者で1年間以上の活動実績のある者は、"]
["　　　部活動の顧問または監督の推薦により申請することができる。"]
[]
["5．公認少年2段位・公認２段位（実技試験を実施）"]
["　　１）公認少年初段位・公認初段位取得後1年以上経過した者。"]
["　　2）実技試験：形（指定形1つ・得意形1つ：ただし少年は第１指定形１つ・得意形１つ）"]
["　　　　　　　　　　　　：組手（安全具着用・メンホーシールド装着）：ただし少年は組手を免除"]
[]
["6．公認３段位の認定（実技試験を実施）"]
["　　１）満１８歳以上で、公認２段位取得後1年以上経過した者。"]
["　　2）実技試験：形（指定形1つ・得意形1つ）"]
["　　　　　　　　　　　　：組手（安全具着用・メンホーシールド装着）"]
[]
["7．少年段位から一般段位への移行（従来通り）"]
["　　１）満１６歳以上で、所属道場及び中学校・高等学校・大学の部活動の顧問または監督の推薦により申請するこ"]
["　　　　とができる。"]
["　　２）現在保有段位証書の写しを添付すること。"]
[]
[]
["8．推薦書について"]
["　　推薦書の提出は必要ありません。公認級位・公認初段位申込書を推薦書といたします。"]
[]
["9．申込み手続きについて"]
["　　１）宮城県空手道連盟に団体登録済みであること。"]
["　　２）宮城県空手道連盟に令和3年度の団体登録費が納入済み（納入予定も含む）であること。"]
["　　３）全日本空手道連盟に会員登録済みであること。"]
["　　４）級段審査会申込みシートを使用し申し込むこと。"]
["　　　　※前年度より紙媒体での申込みは受け付けていません。ＦＡＸまたは郵送での申込みはしないで下さい。"]
["　　　　※級段審査会申込みシートは宮城県空手道連盟から電子メールで送信いたします。また宮城県空手道連盟"]
["　　　　のホームページからもダウンロードできます。"]
[]
["10．受審料について"]
["　　１）公認２級以下","　４，０００円（登録料含む）"]
["　　２）公認１級","　５，０００円（登録料含む）"]
["　　３）公認初段","１７，０００円（登録料含む）"]
["　　４）公認２段","２０，０００円（登録料含む）"]
["　　５）公認３段","２４，０００円（登録料含む）"]
["　　６）初段移行料","１０，０００円"]
["　　７）２段移行料","１１，０００円"]
["　　８）公認１級取得","１２，０００円"]
[]
["11．申込み方法"]
["　　１）級段審査会申込みシートに入力後、ファイル名を「公認級段審査○○支部」として保存して下さい。"]
["　　２）保存後、下記メールアドレスに添付して電子メールで申込みして下さい。件名も「公認級段審査○○支部」と"]
["　　　して下さい。"]
["　　　※公認段位の移行をする場合は現在保有段位の写し（ファイル形式不問）を添付して下さい。"]
["メールアドレス　　sugawara-ge638@td.myswan.ed.jp　　"]
[]
[]
["　　３）審査料は下記の口座記号・口座番号へゆうちょ銀行の払込取扱票を使用して締切日までに払い込むこと。"]
["　　　※通信欄に「公認級段審査○○支部」と「詳細に金額の内訳」を記入して下さい。"]
[]
[null,"　口座記号・口座番号　　０２２２０＝４＝１４０８３１\n　加入者名　　　　　　　　　　 宮城県空手道連盟"]
[]
[]
[]
[]
["12．申込み締め切り"]
["　　令和3年8月2日（月）"]
[]
["１3．問い合わせ"]
["　　申込みについて、ご不明な点などございましたら事務局までお問い合わせ下さい。"]
["＜事務局＞","〒981-0501　東松島市赤井字七反谷地27"]
[null,"宮城県石巻西高等学校　　　　菅原源一郎"]
[" ","TEL　０９０－９４２３－５５９８"]

{"sheet":"1_申込み確認Sheet","index":1,"n_rows":56,"n_cols":10,"rows_kept":56,"cut":false,"hidden":false,"merged":[[1,9,3,10],[13,8,13,10],[25,8,25,10],[26,8,26,10],[5,8,5,10],[7,8,7,10],[9,8,9,10],[11,8,11,10],[23,7,23,10],[17,8,17,10],[21,8,21,10],[22,8,22,10],[6,8,6,10],[8,8,8,10],[10,8,10,10],[12,8,12,10],[41,2,41,4],[35,2,35,4],[15,8,15,10],[31,2,31,4],[32,2,32,4],[33,2,33,4],[34,2,34,4],[27,8,27,10],[29,2,29,4],[30,2,30,4],[14,8,14,10],[16,8,16,10],[18,8,18,10],[0,1,0,9],[51,1,54,7],[44,2,44,4],[45,2,45,4],[46,2,46,4],[47,2,47,4],[40,2,40,4],[43,2,43,4],[42,2,42,4],[36,2,36,4],[37,2,37,4],[38,2,38,4],[39,2,39,4]]}
[null,"令和３年度 宮城県空手道連盟 公認級段審査 申込み確認表"]
[null,null,null,null,null,null,null,null,null,"このSheetの進め方\n迷ったらここ！"]
["　宮城県空手道連盟会長　西村　明宏　殿"]
[]
["※",null,"に入力して下さい。"]
[null,null,null,null,null,null,null,"①支部名"]
[]
[null,null,null,null,null,null,null,"②支部長名"]
[]
[null,null,null,null,null,null,"証書送付先","③〒番号"]
[]
[null,null,null,null,null,null,null,"④住所"]
[]
[null,null,null,null,null,null,null,"⑤氏名"]
[]
[null,null,null,null,null,null,null,"⑥電話番号"]
[]
[null,null,null,null,null,null,null,"⑦E-mail"]
[]
[]
["　　標記審査会について、シートのとおり申し込みいたします。"]
[null,null,null,null,null,null,null,null,"↓西暦/月/日と入力"]
[null,null,null,null,null,null,null,"⑧作成日"]
[null,null,null,null,null,null,null,"作成日を入力、締め切り日は令和3年2月26日(金)"]
[]
[]
[null,null,null,null,null,null,null,"審査日","2021-03-07"]
[null,null,null,null,null,null,null,null,"入力しないで下さい"]
[null,"受審者申込数",null,null,null,"⑨↓人数を入力して下さい"]
[null,1,"５級受審",null,null,null,"×@\\4,000",{"$f":"F30*4000","v":0}]
[null,2,"４級受審",null,null,null,"×@\\4,000",{"$f":"F31*4000","v":0}]
[null,3,"３級受審",null,null,null,"×@\\4,000",{"$f":"F32*4000","v":0}]
[null,4,"２級受審",null,null,null,"×@\\4,000",{"$f":"F33*4000","v":0}]
[null,5,"１級受審",null,null,null,"×@\\5,000",{"$f":"F34*5000","v":0}]
[null,6,"５級移行",null,null,null,"×@\\4,000",{"$f":"F35*4000","v":0}]
[null,7,"４級移行",null,null,null,"×@\\4,000",{"$f":"F36*4000","v":0}]
[null,8,"３級移行",null,null,null,"×@\\4,000",{"$f":"F37*4000","v":0}]
[null,9,"２級移行",null,null,null,"×@\\4,000",{"$f":"F38*4000","v":0}]
[null,10,"１級移行",null,null,null,"×@\\5,000",{"$f":"F39*5000","v":0}]
[null,11,"初段受審",null,null,null,"×@\\17,000",{"$f":"F40*17000","v":0}]
[null,12,"初段免除（公認１級取得必須）",null,null,null,"×@\\17,000",{"$f":"F41*17000","v":0}]
[null,13,"少年初段から一般初段へ移行",null,null,null,"×@\\10,000",{"$f":"F42*10000","v":0}]
[null,14,"弐段受審",null,null,null,"×@\\20,000",{"$f":"F43*20000","v":0}]
[null,15,"弐段免除（公認初段取得必須）",null,null,null,"×@\\20,000",{"$f":"F44*20000","v":0}]
[null,16,"少年弐段から一般弐段へ移行",null,null,null,"×@\\11,000",{"$f":"F45*11000","v":0}]
[null,17,"参段受審",null,null,null,"×@\\24,000",{"$f":"F46*24000","v":0}]
[null,18,"公認１級取得",null,null,null,"×@\\12,000",{"$f":"F47*12000","v":0}]
[null,null,"人数合計",null,null,{"$f":"SUM(F30:F47)","v":0},"名  受審料合計",{"$f":"SUM(H30:H47)","v":0}]
[]
[]
[null,"令和2年2月26日(金)までに下記口座に振り込みいたします。"]
[null,"　　　　口座記号・口座番号　　０２２２０＝４＝１４０８３１\n　　　　加入者名　　　　　　　宮城県空手道連盟"]
[]
[]
[]
[null,"※","通信欄に「公認級段審査○○支部」と「金額の内訳」を記入して下さい。"]

{"sheet":"2_公認級申込Sheet","index":2,"n_rows":206,"n_cols":13,"rows_kept":206,"cut":false,"hidden":false,"merged":[[11,8,12,8],[0,3,0,6],[3,0,4,0],[3,3,4,4],[3,5,4,5],[3,11,4,11],[3,12,4,13],[2,3,2,4],[2,12,2,13],[7,9,8,9],[7,10,8,10],[7,11,8,11],[7,12,8,13],[9,0,10,0],[9,1,10,1],[9,3,10,4],[9,5,10,5],[9,6,10,6],[9,8,10,8],[5,9,6,9],[5,10,6,10],[5,11,6,11],[5,12,6,13],[7,0,8,0],[7,1,8,1],[7,3,8,4],[7,5,8,5],[7,6,8,6],[7,8,8,8],[5,0,6,0],[5,1,6,1],[5,3,6,4],[13,9,14,9],[13,10,14,10],[13,11,14,11],[13,12,14,13],[15,0,16,0],[15,1,16,1],[15,3,16,4],[15,5,16,5],[15,6,16,6],[15,8,16,8],[5,5,6,5],[5,6,6,6],[5,8,6,8],[11,9,12,9],[11,10,12,10],[11,11,12,11],[11,12,12,13],[13,0,14,0],[13,1,14,1],[13,3,14,4],[13,5,14,5],[13,6,14,6],[13,8,14,8],[9,9,10,9],[9,10,10,10],[9,11,10,11],[9,12,10,13],[11,0,12,0],[11,1,12,1],[11,3,12,4],[11,5,12,5],[11,6,12,6],[17,9,18,9],[17,10,18,10],[17,11,18,11],[17,12,18,13],[19,0,20,0],[19,1,20,1],[19,3,20,4],[19,5,20,5],[19,6,20,6],[19,8,20,8],[15,9,16,9],[15,10,16,10],[15,11,16,11],[15,12,16,13],[17,0,18,0],[17,1,18,1],[17,3,18,4],[17,5,18,5],[17,6,18,6],[17,8,18,8],[21,9,22,9],[21,10,22,10],[21,11,22,11],[21,12,22,13],[23,0,24,0],[23,1,24,1],[23,3,24,4],[23,5,24,5],[23,6,24,6],[23,8,24,8],[19,9,20,9],[19,10,20,10],[19,11,20,11],[19,12,20,13],[21,0,22,0],[21,1,22,1],[21,3,22,4],[21,5,22,5],[21,6,22,6],[21,8,22,8],[25,9,26,9],[25,10,26,10],[25,11,26,11],[25,12,26,13],[27,0,28,0],[27,1,28,1],[27,3,28,4],[27,5,28,5],[27,6,28,6],[27,8,28,8],[23,9,24,9],[23,10,24,10],[23,11,24,11],[23,12,24,13],[25,0,26,0],[25,1,26,1],[25,3,26,4],[25,5,26,5],[25,6,26,6],[25,8,26,8],[29,9,30,9],[29,10,30,10],[29,11,30,11],[29,12,30,13],[31,0,32,0],[31,1,32,1],[31,3,32,4],[31,5,32,5],[31,6,32,6],[31,8,32,8],[27,9,28,9],[27,10,28,10],[27,11,28,11],[27,12,28,13],[29,0,30,0],[29,1,30,1],[29,3,30,4],[29,5,30,5],[29,6,30,6],[29,8,30,8],[33,9,34,9],[33,10,34,10],[33,11,34,11],[33,12,34,13],[35,0,36,0],[35,1,36,1],[35,3,36,4],[35,5,36,5],[35,6,36,6],[35,8,36,8],[31,9,32,9],[31,10,32,10],[31,11,32,11],[31,12,32,13],[33,0,34,0],[33,1,34,1],[33,3,34,4],[33,5,34,5],[33,6,34,6],[33,8,34,8],[37,9,38,9],[37,10,38,10],[37,11,38,11],[37,12,38,13],[39,0,40,0],[39,1,40,1],[39,3,40,4],[39,5,40,5],[39,6,40,6],[39,8,40,8],[35,9,36,9],[35,10,36,10],[35,11,36,11],[35,12,36,13],[37,0,38,0],[37,1,38,1],[37,3,38,4],[37,5,38,5],[37,6,38,6],[37,8,38,8],[41,9,42,9],[41,10,42,10],[41,11,42,11],[41,12,42,13],[43,0,44,0],[43,1,44,1],[43,3,44,4],[43,5,44,5],[43,6,44,6],[43,8,44,8],[39,9,40,9],[39,10,40,10],[39,11,40,11],[39,12,40,13],[41,0,42,0],[41,1,42,1],[41,3,42,4],[41,5,42,5],[41,6,42,6],[41,8,42,8],[45,9,46,9],[45,10,46,10],[45,11,46,11],[45,12,46,13],[47,0,48,0],[47,1,48,1],[47,3,48,4],[47,5,48,5],[47,6,48,6],[47,8,48,8],[43,9,44,9],[43,10,44,10],[43,11,44,11],[43,12,44,13],[45,0,46,0],[45,1,46,1],[45,3,46,4],[45,5,46,5],[45,6,46,6],[45,8,46,8],[49,9,50,9],[49,10,50,10],[49,11,50,11],[49,12,50,13],[51,0,52,0],[51,1,52,1],[51,3,52,4],[51,5,52,5],[51,6,52,6],[51,8,52,8],[47,9,48,9],[47,10,48,10],[47,11,48,11],[47,12,48,13],[49,0,50,0],[49,1,50,1],[49,3,50,4],[49,5,50,5],[49,6,50,6],[49,8,50,8],[53,9,54,9],[53,10,54,10],[53,11,54,11],[53,12,54,13],[55,0,56,0],[55,1,56,1],[55,3,56,4],[55,5,56,5],[55,6,56,6],[55,8,56,8],[51,9,52,9],[51,10,52,10],[51,11,52,11],[51,12,52,13],[53,0,54,0],[53,1,54,1],[53,3,54,4],[53,5,54,5],[53,6,54,6],[53,8,54,8],[57,9,58,9],[57,10,58,10],[57,11,58,11],[57,12,58,13],[59,0,60,0],[59,1,60,1],[59,3,60,4],[59,5,60,5],[59,6,60,6],[59,8,60,8],[55,9,56,9],[55,10,56,10],[55,11,56,11],[55,12,56,13],[57,0,58,0],[57,1,58,1],[57,3,58,4],[57,5,58,5],[57,6,58,6],[57,8,58,8],[61,9,62,9],[61,10,62,10],[61,11,62,11],[61,12,62,13],[63,0,64,0],[63,1,64,1],[63,3,64,4],[63,5,64,5],[63,6,64,6],[63,8,64,8],[59,9,60,9],[59,10,60,10],[59,11,60,11],[59,12,60,13],[61,0,62,0],[61,1,62,1],[61,3,62,4],[61,5,62,5],[61,6,62,6],[61,8,62,8],[65,9,66,9],[65,10,66,10],[65,11,66,11],[65,12,66,13],[67,0,68,0],[67,1,68,1],[67,3,68,4],[67,5,68,5],[67,6,68,6],[67,8,68,8],[63,9,64,9],[63,10,64,10],[63,11,64,11],[63,12,64,13],[65,0,66,0],[65,1,66,1],[65,3,66,4],[65,5,66,5],[65,6,66,6],[65,8,66,8],[69,9,70,9],[69,10,70,10],[69,11,70,11],[69,12,70,13],[71,0,72,0],[71,1,72,1],[71,3,72,4],[71,5,72,5],[71,6,72,6],[71,8,72,8],[67,9,68,9],[67,10,68,10],[67,11,68,11],[67,12,68,13],[69,0,70,0],[69,1,70,1],[69,3,70,4],[69,5,70,5],[69,6,70,6],[69,8,70,8],[73,9,74,9],[73,10,74,10],[73,11,74,11],[73,12,74,13],[75,0,76,0],[75,1,76,1],[75,3,76,4],[75,5,76,5],[75,6,76,6],[75,8,76,8],[71,9,72,9],[71,10,72,10],[71,11,72,11],[71,12,72,13],[73,0,74,0],[73,1,74,1],[73,3,74,4],[73,5,74,5],[73,6,74,6],[73,8,74,8],[77,9,78,9],[77,10,78,10],[77,11,78,11],[77,12,78,13],[79,0,80,0],[79,1,80,1],[79,3,80,4],[79,5,80,5],[79,6,80,6],[79,8,80,8],[75,9,76,9],[75,10,76,10],[75,11,76,11],[75,12,76,13],[77,0,78,0],[77,1,78,1],[77,3,78,4],[77,5,78,5],[77,6,78,6],[77,8,78,8],[81,9,82,9],[81,10,82,10],[81,11,82,11],[81,12,82,13],[83,0,84,0],[83,1,84,1],[83,3,84,4],[83,5,84,5],[83,6,84,6],[83,8,84,8],[79,9,80,9],[79,10,80,10],[79,11,80,11],[79,12,80,13],[81,0,82,0],[81,1,82,1],[81,3,82,4],[81,5,82,5],[81,6,82,6],[81,8,82,8],[85,9,86,9],[85,10,86,10],[85,11,86,11],[85,12,86,13],[87,0,88,0],[87,1,88,1],[87,3,88,4],[87,5,88,5],[87,6,88,6],[87,8,88,8],[83,9,84,9],[83,10,84,10],[83,11,84,11],[83,12,84,13],[85,0,86,0],[85,1,86,1],[85,3,86,4],[85,5,86,5],[85,6,86,6],[85,8,86,8],[89,9,90,9],[89,10,90,10],[89,11,90,11],[89,12,90,13],[91,0,92,0],[91,1,92,1],[91,3,92,4],[91,5,92,5],[91,6,92,6],[91,8,92,8],[87,9,88,9],[87,10,88,10],[87,11,88,11],[87,12,88,13],[89,0,90,0],[89,1,90,1],[89,3,90,4],[89,5,90,5],[89,6,90,6],[89,8,90,8],[93,9,94,9],[93,10,94,10],[93,11,94,11],[93,12,94,13],[95,0,96,0],[95,1,96,1],[95,3,96,4],[95,5,96,5],[95,6,96,6],[95,8,96,8],[91,9,92,9],[91,10,92,10],[91,11,92,11],[91,12,92,13],[93,0,94,0],[93,1,94,1],[93,3,94,4],[93,5,94,5],[93,6,94,6],[93,8,94,8],[97,9,98,9],[97,10,98,10],[97,11,98,11],[97,12,98,13],[99,0,100,0],[99,1,100,1],[99,3,100,4],[99,5,100,5],[99,6,100,6],[99,8,100,8],[95,9,96,9],[95,10,96,10],[95,11,96,11],[95,12,96,13],[97,0,98,0],[97,1,98,1],[97,3,98,4],[97,5,98,5],[97,6,98,6],[97,8,98,8],[101,9,102,9],[101,10,102,10],[101,11,102,11],[101,12,102,13],[103,0,104,0],[103,1,104,1],[103,3,104,4],[103,5,104,5],[103,6,104,6],[103,8,104,8],[99,9,100,9],[99,10,100,10],[99,11,100,11],[99,12,100,13],[101,0,102,0],[101,1,102,1],[101,3,102,4],[101,5,102,5],[101,6,102,6],[101,8,102,8],[105,9,106,9],[105,10,106,10],[105,11,106,11],[105,12,106,13],[107,0,108,0],[107,1,108,1],[107,3,108,4],[107,5,108,5],[107,6,108,6],[107,8,108,8],[103,9,104,9],[103,10,104,10],[103,11,104,11],[103,12,104,13],[105,0,106,0],[105,1,106,1],[105,3,106,4],[105,5,106,5],[105,6,106,6],[105,8,106,8],[109,9,110,9],[109,10,110,10],[109,11,110,11],[109,12,110,13],[111,0,112,0],[111,1,112,1],[111,3,112,4],[111,5,112,5],[111,6,112,6],[111,8,112,8],[107,9,108,9],[107,10,108,10],[107,11,108,11],[107,12,108,13],[109,0,110,0],[109,1,110,1],[109,3,110,4],[109,5,110,5],[109,6,110,6],[109,8,110,8],[113,9,114,9],[113,10,114,10],[113,11,114,11],[113,12,114,13],[115,0,116,0],[115,1,116,1],[115,3,116,4],[115,5,116,5],[115,6,116,6],[115,8,116,8],[111,9,112,9],[111,10,112,10],[111,11,112,11],[111,12,112,13],[113,0,114,0],[113,1,114,1],[113,3,114,4],[113,5,114,5],[113,6,114,6],[113,8,114,8],[117,9,118,9],[117,10,118,10],[117,11,118,11],[117,12,118,13],[119,0,120,0],[119,1,120,1],[119,3,120,4],[119,5,120,5],[119,6,120,6],[119,8,120,8],[115,9,116,9],[115,10,116,10],[115,11,116,11],[115,12,116,13],[117,0,118,0],[117,1,118,1],[117,3,118,4],[117,5,118,5],[117,6,118,6],[117,8,118,8],[121,9,122,9],[121,10,122,10],[121,11,122,11],[121,12,122,13],[123,0,124,0],[123,1,124,1],[123,3,124,4],[123,5,124,5],[123,6,124,6],[123,8,124,8],[119,9,120,9],[119,10,120,10],[119,11,120,11],[119,12,120,13],[121,0,122,0],[121,1,122,1],[121,3,122,4],[121,5,122,5],[121,6,122,6],[121,8,122,8],[125,9,126,9],[125,10,126,10],[125,11,126,11],[125,12,126,13],[127,0,128,0],[127,1,128,1],[127,3,128,4],[127,5,128,5],[127,6,128,6],[127,8,128,8],[123,9,124,9],[123,10,124,10],[123,11,124,11],[123,12,124,13],[125,0,126,0],[125,1,126,1],[125,3,126,4],[125,5,126,5],[125,6,126,6],[125,8,126,8],[129,9,130,9],[129,10,130,10],[129,11,130,11],[129,12,130,13],[131,0,132,0],[131,1,132,1],[131,3,132,4],[131,5,132,5],[131,6,132,6],[131,8,132,8],[127,9,128,9],[127,10,128,10],[127,11,128,11],[127,12,128,13],[129,0,130,0],[129,1,130,1],[129,3,130,4],[129,5,130,5],[129,6,130,6],[129,8,130,8],[133,9,134,9],[133,10,134,10],[133,11,134,11],[133,12,134,13],[135,0,136,0],[135,1,136,1],[135,3,136,4],[135,5,136,5],[135,6,136,6],[135,8,136,8],[131,9,132,9],[131,10,132,10],[131,11,132,11],[131,12,132,13],[133,0,134,0],[133,1,134,1],[133,3,134,4],[133,5,134,5],[133,6,134,6],[133,8,134,8],[137,9,138,9],[137,10,138,10],[137,11,138,11],[137,12,138,13],[139,0,140,0],[139,1,140,1],[139,3,140,4],[139,5,140,5],[139,6,140,6],[139,8,140,8],[135,9,136,9],[135,10,136,10],[135,11,136,11],[135,12,136,13],[137,0,138,0],[137,1,138,1],[137,3,138,4],[137,5,138,5],[137,6,138,6],[137,8,138,8],[141,9,142,9],[141,10,142,10],[141,11,142,11],[141,12,142,13],[143,0,144,0],[143,1,144,1],[143,3,144,4],[143,5,144,5],[143,6,144,6],[143,8,144,8],[139,9,140,9],[139,10,140,10],[139,11,140,11],[139,12,140,13],[141,0,142,0],[141,1,142,1],[141,3,142,4],[141,5,142,5],[141,6,142,6],[141,8,142,8],[145,9,146,9],[145,10,146,10],[145,11,146,11],[145,12,146,13],[147,0,148,0],[147,1,148,1],[147,3,148,4],[147,5,148,5],[147,6,148,6],[147,8,148,8],[143,9,144,9],[143,10,144,10],[143,11,144,11],[143,12,144,13],[145,0,146,0],[145,1,146,1],[145,3,146,4],[145,5,146,5],[145,6,146,6],[145,8,146,8],[149,9,150,9],[149,10,150,10],[149,11,150,11],[149,12,150,13],[151,0,152,0],[151,1,152,1],[151,3,152,4],[151,5,152,5],[151,6,152,6],[151,8,152,8],[147,9,148,9],[147,10,148,10],[147,11,148,11],[147,12,148,13],[149,0,150,0],[149,1,150,1],[149,3,150,4],[149,5,150,5],[149,6,150,6],[149,8,150,8],[153,9,154,9],[153,10,154,10],[153,11,154,11],[153,12,154,13],[155,0,156,0],[155,1,156,1],[155,3,156,4],[155,5,156,5],[155,6,156,6],[155,8,156,8],[151,9,152,9],[151,10,152,10],[151,11,152,11],[151,12,152,13],[153,0,154,0],[153,1,154,1],[153,3,154,4],[153,5,154,5],[153,6,154,6],[153,8,154,8],[157,9,158,9],[157,10,158,10],[157,11,158,11],[157,12,158,13],[159,0,160,0],[159,1,160,1],[159,3,160,4],[159,5,160,5],[159,6,160,6],[159,8,160,8],[155,9,156,9],[155,10,156,10],[155,11,156,11],[155,12,156,13],[157,0,158,0],[157,1,158,1],[157,3,158,4],[157,5,158,5],[157,6,158,6],[157,8,158,8],[161,9,162,9],[161,10,162,10],[161,11,162,11],[161,12,162,13],[163,0,164,0],[163,1,164,1],[163,3,164,4],[163,5,164,5],[163,6,164,6],[163,8,164,8],[159,9,160,9],[159,10,160,10],[159,11,160,11],[159,12,160,13],[161,0,162,0],[161,1,162,1],[161,3,162,4],[161,5,162,5],[161,6,162,6],[161,8,162,8],[165,9,166,9],[165,10,166,10],[165,11,166,11],[165,12,166,13],[167,0,168,0],[167,1,168,1],[167,3,168,4],[167,5,168,5],[167,6,168,6],[167,8,168,8],[163,9,164,9],[163,10,164,10],[163,11,164,11],[163,12,164,13],[165,0,166,0],[165,1,166,1],[165,3,166,4],[165,5,166,5],[165,6,166,6],[165,8,166,8],[169,9,170,9],[169,10,170,10],[169,11,170,11],[169,12,170,13],[171,0,172,0],[171,1,172,1],[171,3,172,4],[171,5,172,5],[171,6,172,6],[171,8,172,8],[167,9,168,9],[167,10,168,10],[167,11,168,11],[167,12,168,13],[169,0,170,0],[169,1,170,1],[169,3,170,4],[169,5,170,5],[169,6,170,6],[169,8,170,8],[173,9,174,9],[173,10,174,10],[173,11,174,11],[173,12,174,13],[175,0,176,0],[175,1,176,1],[175,3,176,4],[175,5,176,5],[175,6,176,6],[175,8,176,8],[171,9,172,9],[171,10,172,10],[171,11,172,11],[171,12,172,13],[173,0,174,0],[173,1,174,1],[173,3,174,4],[173,5,174,5],[173,6,174,6],[173,8,174,8],[177,9,178,9],[177,10,178,10],[177,11,178,11],[177,12,178,13],[179,0,180,0],[179,1,180,1],[179,3,180,4],[179,5,180,5],[179,6,180,6],[179,8,180,8],[175,9,176,9],[175,10,176,10],[175,11,176,11],[175,12,176,13],[177,0,178,0],[177,1,178,1],[177,3,178,4],[177,5,178,5],[177,6,178,6],[177,8,178,8],[181,9,182,9],[181,10,182,10],[181,11,182,11],[181,12,182,13],[183,0,184,0],[183,1,184,1],[183,3,184,4],[183,5,184,5],[183,6,184,6],[183,8,184,8],[179,9,180,9],[179,10,180,10],[179,11,180,11],[179,12,180,13],[181,0,182,0],[181,1,182,1],[181,3,182,4],[181,5,182,5],[181,6,182,6],[181,8,182,8],[185,9,186,9],[185,10,186,10],[185,11,186,11],[185,12,186,13],[187,0,188,0],[187,1,188,1],[187,3,188,4],[187,5,188,5],[187,6,188,6],[187,8,188,8],[183,9,184,9],[183,10,184,10],[183,11,184,11],[183,12,184,13],[185,0,186,0],[185,1,186,1],[185,3,186,4],[185,5,186,5],[185,6,186,6],[185,8,186,8],[189,9,190,9],[189,10,190,10],[189,11,190,11],[189,12,190,13],[191,0,192,0],[191,1,192,1],[191,3,192,4],[191,5,192,5],[191,6,192,6],[191,8,192,8],[187,9,188,9],[187,10,188,10],[187,11,188,11],[187,12,188,13],[189,0,190,0],[189,1,190,1],[189,3,190,4],[189,5,190,5],[189,6,190,6],[189,8,190,8],[193,9,194,9],[193,10,194,10],[193,11,194,11],[193,12,194,13],[195,0,196,0],[195,1,196,1],[195,3,196,4],[195,5,196,5],[195,6,196,6],[195,8,196,8],[191,9,192,9],[191,10,192,10],[191,11,192,11],[191,12,192,13],[193,0,194,0],[193,1,194,1],[193,3,194,4],[193,5,194,5],[193,6,194,6],[193,8,194,8],[201,5,202,5],[201,6,202,6],[201,8,202,8],[197,9,198,9],[197,10,198,10],[197,11,198,11],[197,12,198,13],[199,0,200,0],[199,1,200,1],[199,3,200,4],[199,5,200,5],[199,6,200,6],[199,8,200,8],[195,9,196,9],[195,10,196,10],[195,11,196,11],[195,12,196,13],[197,0,198,0],[197,1,198,1],[197,3,198,4],[197,5,198,5],[197,6,198,6],[197,8,198,8],[1,1,1,12],[205,9,206,9],[205,10,206,10],[205,11,206,11],[205,12,206,13],[203,9,204,9],[203,10,204,10],[203,11,204,11],[203,12,204,13],[205,0,206,0],[205,1,206,1],[205,3,206,4],[205,5,206,5]],"merged_total":1019,"flags":["merged_cut"]}
["※",null,"に入力して下さい。","このSheetの進め方　迷ったらここ！"]
[null,"令和３年度 宮城県空手道連盟 公認級審査 申込みシート"]
[null,"①","②","③",null,"④",null,"⑤","⑥","⑦","⑧","⑨","全ての入力が終了したら公認\n級申込書で確認して下さい。"]
["Ｎｏ","全 空 連","上段ふりがな","生年月日\n（西暦/月/日と入力）",null,"性別","年令","上段〒番号","現在","取得年月日","受審","区分","支部名"]
[null,"会員番号","下段氏名",null,null,null,"（満）","下段現住所","級位","（西暦/月/日と入力）","級位"]
["例",98765432,"みやぎ　きゅうたろう","2009-05-15",null,"男",{"$f":"IF(D6=\"\",\"\",DATEDIF(D6,'1_申込み確認Sheet'!$I$23,\"Y\"))","v":{"$error":"#NUM!"}},"９８７－０６０２","公認5級","2018-04-29","公認1級","少年",{"$f":"'1_申込み確認Sheet'!$I$6","v":0}]
[null,null,"宮城　級太郎",null,null,null,null,"登米市中田町上沼字北桜場２２３－１"]
[1,null,null,null,null,null,{"$f":"IF(D8=\"\",\"\",DATEDIF(D8,'1_申込み確認Sheet'!$I$23,\"Y\"))","v":""},null,null,null,null,null,{"$f":"'1_申込み確認Sheet'!$I$6","v":0}]
[]
[2,null,null,null,null,null,{"$f":"IF(D10=\"\",\"\",DATEDIF(D10,'1_申込み確認Sheet'!$I$23,\"Y\"))","v":""},null,null,null,null,null,{"$f":"'1_申込み確認Sheet'!$I$6","v":0}]
[]
[3,null,null,null,null,null,{"$f":"IF(D12=\"\",\"\",DATEDIF(D12,'1_申込み確認Sheet'!$I$23,\"Y\"))","v":""},null,null,null,null,null,{"$f":"'1_申込み確認Sheet'!$I$6","v":0}]
[]
[4,null,null,null,null,null,{"$f":"IF(D14=\"\",\"\",DATEDIF(D14,'1_申込み確認Sheet'!$I$23,\"Y\"))","v":""},null,null,null,null,null,{"$f":"'1_申込み確認Sheet'!$I$6","v":0}]
[]
[5,null,null,null,null,null,{"$f":"IF(D16=\"\",\"\",DATEDIF(D16,'1_申込み確認Sheet'!$I$23,\"Y\"))","v":""},null,null,null,null,null,{"$f":"'1_申込み確認Sheet'!$I$6","v":0}]
[]
[6,null,null,null,null,null,{"$f":"IF(D18=\"\",\"\",DATEDIF(D18,'1_申込み確認Sheet'!$I$23,\"Y\"))","v":""},null,null,null,null,null,{"$f":"'1_申込み確認Sheet'!$I$6","v":0}]
[]
[7,null,null,null,null,null,{"$f":"IF(D20=\"\",\"\",DATEDIF(D20,'1_申込み確認Sheet'!$I$23,\"Y\"))","v":""},null,null,null,null,null,{"$f":"'1_申込み確認Sheet'!$I$6","v":0}]
[]
[8,null,null,null,null,null,{"$f":"IF(D22=\"\",\"\",DATEDIF(D22,'1_申込み確認Sheet'!$I$23,\"Y\"))","v":""},null,null,null,null,null,{"$f":"'1_申込み確認Sheet'!$I$6","v":0}]
[]
[9,null,null,null,null,null,{"$f":"IF(D24=\"\",\"\",DATEDIF(D24,'1_申込み確認Sheet'!$I$23,\"Y\"))","v":""},null,null,null,null,null,{"$f":"'1_申込み確認Sheet'!$I$6","v":0}]
[]
[10,null,null,null,null,null,{"$f":"IF(D26=\"\",\"\",DATEDIF(D26,'1_申込み確認Sheet'!$I$23,\"Y\"))","v":""},null,null,null,null,null,{"$f":"'1_申込み確認Sheet'!$I$6","v":0}]
[]
[11,null,null,null,null,null,{"$f":"IF(D28=\"\",\"\",DATEDIF(D28,'1_申込み確認Sheet'!$I$23,\"Y\"))","v":""},null,null,null,null,null,{"$f":"'1_申込み確認Sheet'!$I$6","v":0}]
[]
[12,null,null,null,null,null,{"$f":"IF(D30=\"\",\"\",DATEDIF(D30,'1_申込み確認Sheet'!$I$23,\"Y\"))","v":""},null,null,null,null,null,{"$f":"'1_申込み確認Sheet'!$I$6","v":0}]
[]
[13,null,null,null,null,null,{"$f":"IF(D32=\"\",\"\",DATEDIF(D32,'1_申込み確認Sheet'!$I$23,\"Y\"))","v":""},null,null,null,null,null,{"$f":"'1_申込み確認Sheet'!$I$6","v":0}]
[]
[14,null,null,null,null,null,{"$f":"IF(D34=\"\",\"\",DATEDIF(D34,'1_申込み確認Sheet'!$I$23,\"Y\"))","v":""},null,null,null,null,null,{"$f":"'1_申込み確認Sheet'!$I$6","v":0}]
[]
[15,null,null,null,null,null,{"$f":"IF(D36=\"\",\"\",DATEDIF(D36,'1_申込み確認Sheet'!$I$23,\"Y\"))","v":""},null,null,null,null,null,{"$f":"'1_申込み確認Sheet'!$I$6","v":0}]
[]
[16,null,null,null,null,null,{"$f":"IF(D38=\"\",\"\",DATEDIF(D38,'1_申込み確認Sheet'!$I$23,\"Y\"))","v":""},null,null,null,null,null,{"$f":"'1_申込み確認Sheet'!$I$6","v":0}]
[]
[17,null,null,null,null,null,{"$f":"IF(D40=\"\",\"\",DATEDIF(D40,'1_申込み確認Sheet'!$I$23,\"Y\"))","v":""},null,null,null,null,null,{"$f":"'1_申込み確認Sheet'!$I$6","v":0}]
[]
[18,null,null,null,null,null,{"$f":"IF(D42=\"\",\"\",DATEDIF(D42,'1_申込み確認Sheet'!$I$23,\"Y\"))","v":""},null,null,null,null,null,{"$f":"'1_申込み確認Sheet'!$I$6","v":0}]
[]
[19,null,null,null,null,null,{"$f":"IF(D44=\"\",\"\",DATEDIF(D44,'1_申込み確認Sheet'!$I$23,\"Y\"))","v":""},null,null,null,null,null,{"$f":"'1_申込み確認Sheet'!$I$6","v":0}]
[]
[20,null,null,null,null,null,{"$f":"IF(D46=\"\",\"\",DATEDIF(D46,'1_申込み確認Sheet'!$I$23,\"Y\"))","v":""},null,null,null,null,null,{"$f":"'1_申込み確認Sheet'!$I$6","v":0}]
[]
[21,null,null,null,null,null,{"$f":"IF(D48=\"\",\"\",DATEDIF(D48,'1_申込み確認Sheet'!$I$23,\"Y\"))","v":""},null,null,null,null,null,{"$f":"'1_申込み確認Sheet'!$I$6","v":0}]
[]
[22,null,null,null,null,null,{"$f":"IF(D50=\"\",\"\",DATEDIF(D50,'1_申込み確認Sheet'!$I$23,\"Y\"))","v":""},null,null,null,null,null,{"$f":"'1_申込み確認Sheet'!$I$6","v":0}]
[]
[23,null,null,null,null,null,{"$f":"IF(D52=\"\",\"\",DATEDIF(D52,'1_申込み確認Sheet'!$I$23,\"Y\"))","v":""},null,null,null,null,null,{"$f":"'1_申込み確認Sheet'!$I$6","v":0}]
[]
[24,null,null,null,null,null,{"$f":"IF(D54=\"\",\"\",DATEDIF(D54,'1_申込み確認Sheet'!$I$23,\"Y\"))","v":""},null,null,null,null,null,{"$f":"'1_申込み確認Sheet'!$I$6","v":0}]
[]
[25,null,null,null,null,null,{"$f":"IF(D56=\"\",\"\",DATEDIF(D56,'1_申込み確認Sheet'!$I$23,\"Y\"))","v":""},null,null,null,null,null,{"$f":"'1_申込み確認Sheet'!$I$6","v":0}]
[]
[26,null,null,null,null,null,{"$f":"IF(D58=\"\",\"\",DATEDIF(D58,'1_申込み確認Sheet'!$I$23,\"Y\"))","v":""},null,null,null,null,null,{"$f":"'1_申込み確認Sheet'!$I$6","v":0}]
[]
[27,null,null,null,null,null,{"$f":"IF(D60=\"\",\"\",DATEDIF(D60,'1_申込み確認Sheet'!$I$23,\"Y\"))","v":""},null,null,null,null,null,{"$f":"'1_申込み確認Sheet'!$I$6","v":0}]
[]
[28,null,null,null,null,null,{"$f":"IF(D62=\"\",\"\",DATEDIF(D62,'1_申込み確認Sheet'!$I$23,\"Y\"))","v":""},null,null,null,null,null,{"$f":"'1_申込み確認Sheet'!$I$6","v":0}]
[]
[29,null,null,null,null,null,{"$f":"IF(D64=\"\",\"\",DATEDIF(D64,'1_申込み確認Sheet'!$I$23,\"Y\"))","v":""},null,null,null,null,null,{"$f":"'1_申込み確認Sheet'!$I$6","v":0}]
[]
[30,null,null,null,null,null,{"$f":"IF(D66=\"\",\"\",DATEDIF(D66,'1_申込み確認Sheet'!$I$23,\"Y\"))","v":""},null,null,null,null,null,{"$f":"'1_申込み確認Sheet'!$I$6","v":0}]
[]
[31,null,null,null,null,null,{"$f":"IF(D68=\"\",\"\",DATEDIF(D68,'1_申込み確認Sheet'!$I$23,\"Y\"))","v":""},null,null,null,null,null,{"$f":"'1_申込み確認Sheet'!$I$6","v":0}]
[]
[32,null,null,null,null,null,{"$f":"IF(D70=\"\",\"\",DATEDIF(D70,'1_申込み確認Sheet'!$I$23,\"Y\"))","v":""},null,null,null,null,null,{"$f":"'1_申込み確認Sheet'!$I$6","v":0}]
[]
[33,null,null,null,null,null,{"$f":"IF(D72=\"\",\"\",DATEDIF(D72,'1_申込み確認Sheet'!$I$23,\"Y\"))","v":""},null,null,null,null,null,{"$f":"'1_申込み確認Sheet'!$I$6","v":0}]
[]
[34,null,null,null,null,null,{"$f":"IF(D74=\"\",\"\",DATEDIF(D74,'1_申込み確認Sheet'!$I$23,\"Y\"))","v":""},null,null,null,null,null,{"$f":"'1_申込み確認Sheet'!$I$6","v":0}]
[]
[35,null,null,null,null,null,{"$f":"IF(D76=\"\",\"\",DATEDIF(D76,'1_申込み確認Sheet'!$I$23,\"Y\"))","v":""},null,null,null,null,null,{"$f":"'1_申込み確認Sheet'!$I$6","v":0}]
[]
[36,null,null,null,null,null,{"$f":"IF(D78=\"\",\"\",DATEDIF(D78,'1_申込み確認Sheet'!$I$23,\"Y\"))","v":""},null,null,null,null,null,{"$f":"'1_申込み確認Sheet'!$I$6","v":0}]
[]
[37,null,null,null,null,null,{"$f":"IF(D80=\"\",\"\",DATEDIF(D80,'1_申込み確認Sheet'!$I$23,\"Y\"))","v":""},null,null,null,null,null,{"$f":"'1_申込み確認Sheet'!$I$6","v":0}]
[]
[38,null,null,null,null,null,{"$f":"IF(D82=\"\",\"\",DATEDIF(D82,'1_申込み確認Sheet'!$I$23,\"Y\"))","v":""},null,null,null,null,null,{"$f":"'1_申込み確認Sheet'!$I$6","v":0}]
[]
[39,null,null,null,null,null,{"$f":"IF(D84=\"\",\"\",DATEDIF(D84,'1_申込み確認Sheet'!$I$23,\"Y\"))","v":""},null,null,null,null,null,{"$f":"'1_申込み確認Sheet'!$I$6","v":0}]
[]
[40,null,null,null,null,null,{"$f":"IF(D86=\"\",\"\",DATEDIF(D86,'1_申込み確認Sheet'!$I$23,\"Y\"))","v":""},null,null,null,null,null,{"$f":"'1_申込み確認Sheet'!$I$6","v":0}]
[]
[41,null,null,null,null,null,{"$f":"IF(D88=\"\",\"\",DATEDIF(D88,'1_申込み確認Sheet'!$I$23,\"Y\"))","v":""},null,null,null,null,null,{"$f":"'1_申込み確認Sheet'!$I$6","v":0}]
[]
[42,null,null,null,null,null,{"$f":"IF(D90=\"\",\"\",DATEDIF(D90,'1_申込み確認Sheet'!$I$23,\"Y\"))","v":""},null,null,null,null,null,{"$f":"'1_申込み確認Sheet'!$I$6","v":0}]
[]
[43,null,null,null,null,null,{"$f":"IF(D92=\"\",\"\",DATEDIF(D92,'1_申込み確認Sheet'!$I$23,\"Y\"))","v":""},null,null,null,null,null,{"$f":"'1_申込み確認Sheet'!$I$6","v":0}]
[]
[44,null,null,null,null,null,{"$f":"IF(D94=\"\",\"\",DATEDIF(D94,'1_申込み確認Sheet'!$I$23,\"Y\"))","v":""},null,null,null,null,null,{"$f":"'1_申込み確認Sheet'!$I$6","v":0}]
[]
[45,null,null,null,null,null,{"$f":"IF(D96=\"\",\"\",DATEDIF(D96,'1_申込み確認Sheet'!$I$23,\"Y\"))","v":""},null,null,null,null,null,{"$f":"'1_申込み確認Sheet'!$I$6","v":0}]
[]
[46,null,null,null,null,null,{"$f":"IF(D98=\"\",\"\",DATEDIF(D98,'1_申込み確認Sheet'!$I$23,\"Y\"))","v":""},null,null,null,null,null,{"$f":"'1_申込み確認Sheet'!$I$6","v":0}]
[]
[47,null,null,null,null,null,{"$f":"IF(D100=\"\",\"\",DATEDIF(D100,'1_申込み確認Sheet'!$I$23,\"Y\"))","v":""},null,null,null,null,null,{"$f":"'1_申込み確認Sheet'!$I$6","v":0}]
[]
[48,null,null,null,null,null,{"$f":"IF(D102=\"\",\"\",DATEDIF(D102,'1_申込み確認Sheet'!$I$23,\"Y\"))","v":""},null,null,null,null,null,{"$f":"'1_申込み確認Sheet'!$I$6","v":0}]
[]
[49,null,null,null,null,null,{"$f":"IF(D104=\"\",\"\",DATEDIF(D104,'1_申込み確認Sheet'!$I$23,\"Y\"))","v":""},null,null,null,null,null,{"$f":"'1_申込み確認Sheet'!$I$6","v":0}]
[]
[50,null,null,null,null,null,{"$f":"IF(D106=\"\",\"\",DATEDIF(D106,'1_申込み確認Sheet'!$I$23,\"Y\"))","v":""},null,null,null,null,null,{"$f":"'1_申込み確認Sheet'!$I$6","v":0}]
[]
[51,null,null,null,null,null,{"$f":"IF(D108=\"\",\"\",DATEDIF(D108,'1_申込み確認Sheet'!$I$23,\"Y\"))","v":""},null,null,null,null,null,{"$f":"'1_申込み確認Sheet'!$I$6","v":0}]
[]
[52,null,null,null,null,null,{"$f":"IF(D110=\"\",\"\",DATEDIF(D110,'1_申込み確認Sheet'!$I$23,\"Y\"))","v":""},null,null,null,null,null,{"$f":"'1_申込み確認Sheet'!$I$6","v":0}]
[]
[53,null,null,null,null,null,{"$f":"IF(D112=\"\",\"\",DATEDIF(D112,'1_申込み確認Sheet'!$I$23,\"Y\"))","v":""},null,null,null,null,null,{"$f":"'1_申込み確認Sheet'!$I$6","v":0}]
[]
[54,null,null,null,null,null,{"$f":"IF(D114=\"\",\"\",DATEDIF(D114,'1_申込み確認Sheet'!$I$23,\"Y\"))","v":""},null,null,null,null,null,{"$f":"'1_申込み確認Sheet'!$I$6","v":0}]
[]
[55,null,null,null,null,null,{"$f":"IF(D116=\"\",\"\",DATEDIF(D116,'1_申込み確認Sheet'!$I$23,\"Y\"))","v":""},null,null,null,null,null,{"$f":"'1_申込み確認Sheet'!$I$6","v":0}]
[]
[56,null,null,null,null,null,{"$f":"IF(D118=\"\",\"\",DATEDIF(D118,'1_申込み確認Sheet'!$I$23,\"Y\"))","v":""},null,null,null,null,null,{"$f":"'1_申込み確認Sheet'!$I$6","v":0}]
[]
[57,null,null,null,null,null,{"$f":"IF(D120=\"\",\"\",DATEDIF(D120,'1_申込み確認Sheet'!$I$23,\"Y\"))","v":""},null,null,null,null,null,{"$f":"'1_申込み確認Sheet'!$I$6","v":0}]
[]
[58,null,null,null,null,null,{"$f":"IF(D122=\"\",\"\",DATEDIF(D122,'1_申込み確認Sheet'!$I$23,\"Y\"))","v":""},null,null,null,null,null,{"$f":"'1_申込み確認Sheet'!$I$6","v":0}]
[]
[59,null,null,null,null,null,{"$f":"IF(D124=\"\",\"\",DATEDIF(D124,'1_申込み確認Sheet'!$I$23,\"Y\"))","v":""},null,null,null,null,null,{"$f":"'1_申込み確認Sheet'!$I$6","v":0}]
[]
[60,null,null,null,null,null,{"$f":"IF(D126=\"\",\"\",DATEDIF(D126,'1_申込み確認Sheet'!$I$23,\"Y\"))","v":""},null,null,null,null,null,{"$f":"'1_申込み確認Sheet'!$I$6","v":0}]
[]
[61,null,null,null,null,null,{"$f":"IF(D128=\"\",\"\",DATEDIF(D128,'1_申込み確認Sheet'!$I$23,\"Y\"))","v":""},null,null,null,null,null,{"$f":"'1_申込み確認Sheet'!$I$6","v":0}]
[]
[62,null,null,null,null,null,{"$f":"IF(D130=\"\",\"\",DATEDIF(D130,'1_申込み確認Sheet'!$I$23,\"Y\"))","v":""},null,null,null,null,null,{"$f":"'1_申込み確認Sheet'!$I$6","v":0}]
[]
[63,null,null,null,null,null,{"$f":"IF(D132=\"\",\"\",DATEDIF(D132,'1_申込み確認Sheet'!$I$23,\"Y\"))","v":""},null,null,null,null,null,{"$f":"'1_申込み確認Sheet'!$I$6","v":0}]
[]
[64,null,null,null,null,null,{"$f":"IF(D134=\"\",\"\",DATEDIF(D134,'1_申込み確認Sheet'!$I$23,\"Y\"))","v":""},null,null,null,null,null,{"$f":"'1_申込み確認Sheet'!$I$6","v":0}]
[]
[65,null,null,null,null,null,{"$f":"IF(D136=\"\",\"\",DATEDIF(D136,'1_申込み確認Sheet'!$I$23,\"Y\"))","v":""},null,null,null,null,null,{"$f":"'1_申込み確認Sheet'!$I$6","v":0}]
[]
[66,null,null,null,null,null,{"$f":"IF(D138=\"\",\"\",DATEDIF(D138,'1_申込み確認Sheet'!$I$23,\"Y\"))","v":""},null,null,null,null,null,{"$f":"'1_申込み確認Sheet'!$I$6","v":0}]
[]
[67,null,null,null,null,null,{"$f":"IF(D140=\"\",\"\",DATEDIF(D140,'1_申込み確認Sheet'!$I$23,\"Y\"))","v":""},null,null,null,null,null,{"$f":"'1_申込み確認Sheet'!$I$6","v":0}]
[]
[68,null,null,null,null,null,{"$f":"IF(D142=\"\",\"\",DATEDIF(D142,'1_申込み確認Sheet'!$I$23,\"Y\"))","v":""},null,null,null,null,null,{"$f":"'1_申込み確認Sheet'!$I$6","v":0}]
[]
[69,null,null,null,null,null,{"$f":"IF(D144=\"\",\"\",DATEDIF(D144,'1_申込み確認Sheet'!$I$23,\"Y\"))","v":""},null,null,null,null,null,{"$f":"'1_申込み確認Sheet'!$I$6","v":0}]
[]
[70,null,null,null,null,null,{"$f":"IF(D146=\"\",\"\",DATEDIF(D146,'1_申込み確認Sheet'!$I$23,\"Y\"))","v":""},null,null,null,null,null,{"$f":"'1_申込み確認Sheet'!$I$6","v":0}]
[]
[71,null,null,null,null,null,{"$f":"IF(D148=\"\",\"\",DATEDIF(D148,'1_申込み確認Sheet'!$I$23,\"Y\"))","v":""},null,null,null,null,null,{"$f":"'1_申込み確認Sheet'!$I$6","v":0}]
[]
[72,null,null,null,null,null,{"$f":"IF(D150=\"\",\"\",DATEDIF(D150,'1_申込み確認Sheet'!$I$23,\"Y\"))","v":""},null,null,null,null,null,{"$f":"'1_申込み確認Sheet'!$I$6","v":0}]
[]
[73,null,null,null,null,null,{"$f":"IF(D152=\"\",\"\",DATEDIF(D152,'1_申込み確認Sheet'!$I$23,\"Y\"))","v":""},null,null,null,null,null,{"$f":"'1_申込み確認Sheet'!$I$6","v":0}]
[]
[74,null,null,null,null,null,{"$f":"IF(D154=\"\",\"\",DATEDIF(D154,'1_申込み確認Sheet'!$I$23,\"Y\"))","v":""},null,null,null,null,null,{"$f":"'1_申込み確認Sheet'!$I$6","v":0}]
[]
[75,null,null,null,null,null,{"$f":"IF(D156=\"\",\"\",DATEDIF(D156,'1_申込み確認Sheet'!$I$23,\"Y\"))","v":""},null,null,null,null,null,{"$f":"'1_申込み確認Sheet'!$I$6","v":0}]
[]
[76,null,null,null,null,null,{"$f":"IF(D158=\"\",\"\",DATEDIF(D158,'1_申込み確認Sheet'!$I$23,\"Y\"))","v":""},null,null,null,null,null,{"$f":"'1_申込み確認Sheet'!$I$6","v":0}]
[]
[77,null,null,null,null,null,{"$f":"IF(D160=\"\",\"\",DATEDIF(D160,'1_申込み確認Sheet'!$I$23,\"Y\"))","v":""},null,null,null,null,null,{"$f":"'1_申込み確認Sheet'!$I$6","v":0}]
[]
[78,null,null,null,null,null,{"$f":"IF(D162=\"\",\"\",DATEDIF(D162,'1_申込み確認Sheet'!$I$23,\"Y\"))","v":""},null,null,null,null,null,{"$f":"'1_申込み確認Sheet'!$I$6","v":0}]
[]
[79,null,null,null,null,null,{"$f":"IF(D164=\"\",\"\",DATEDIF(D164,'1_申込み確認Sheet'!$I$23,\"Y\"))","v":""},null,null,null,null,null,{"$f":"'1_申込み確認Sheet'!$I$6","v":0}]
[]
[80,null,null,null,null,null,{"$f":"IF(D166=\"\",\"\",DATEDIF(D166,'1_申込み確認Sheet'!$I$23,\"Y\"))","v":""},null,null,null,null,null,{"$f":"'1_申込み確認Sheet'!$I$6","v":0}]
[]
[81,null,null,null,null,null,{"$f":"IF(D168=\"\",\"\",DATEDIF(D168,'1_申込み確認Sheet'!$I$23,\"Y\"))","v":""},null,null,null,null,null,{"$f":"'1_申込み確認Sheet'!$I$6","v":0}]
[]
[82,null,null,null,null,null,{"$f":"IF(D170=\"\",\"\",DATEDIF(D170,'1_申込み確認Sheet'!$I$23,\"Y\"))","v":""},null,null,null,null,null,{"$f":"'1_申込み確認Sheet'!$I$6","v":0}]
[]
[83,null,null,null,null,null,{"$f":"IF(D172=\"\",\"\",DATEDIF(D172,'1_申込み確認Sheet'!$I$23,\"Y\"))","v":""},null,null,null,null,null,{"$f":"'1_申込み確認Sheet'!$I$6","v":0}]
[]
[84,null,null,null,null,null,{"$f":"IF(D174=\"\",\"\",DATEDIF(D174,'1_申込み確認Sheet'!$I$23,\"Y\"))","v":""},null,null,null,null,null,{"$f":"'1_申込み確認Sheet'!$I$6","v":0}]
[]
[85,null,null,null,null,null,{"$f":"IF(D176=\"\",\"\",DATEDIF(D176,'1_申込み確認Sheet'!$I$23,\"Y\"))","v":""},null,null,null,null,null,{"$f":"'1_申込み確認Sheet'!$I$6","v":0}]
[]
[86,null,null,null,null,null,{"$f":"IF(D178=\"\",\"\",DATEDIF(D178,'1_申込み確認Sheet'!$I$23,\"Y\"))","v":""},null,null,null,null,null,{"$f":"'1_申込み確認Sheet'!$I$6","v":0}]
[]
[87,null,null,null,null,null,{"$f":"IF(D180=\"\",\"\",DATEDIF(D180,'1_申込み確認Sheet'!$I$23,\"Y\"))","v":""},null,null,null,null,null,{"$f":"'1_申込み確認Sheet'!$I$6","v":0}]
[]
[88,null,null,null,null,null,{"$f":"IF(D182=\"\",\"\",DATEDIF(D182,'1_申込み確認Sheet'!$I$23,\"Y\"))","v":""},null,null,null,null,null,{"$f":"'1_申込み確認Sheet'!$I$6","v":0}]
[]
[89,null,null,null,null,null,{"$f":"IF(D184=\"\",\"\",DATEDIF(D184,'1_申込み確認Sheet'!$I$23,\"Y\"))","v":""},null,null,null,null,null,{"$f":"'1_申込み確認Sheet'!$I$6","v":0}]
[]
[90,null,null,null,null,null,{"$f":"IF(D186=\"\",\"\",DATEDIF(D186,'1_申込み確認Sheet'!$I$23,\"Y\"))","v":""},null,null,null,null,null,{"$f":"'1_申込み確認Sheet'!$I$6","v":0}]
[]
[91,null,null,null,null,null,{"$f":"IF(D188=\"\",\"\",DATEDIF(D188,'1_申込み確認Sheet'!$I$23,\"Y\"))","v":""},null,null,null,null,null,{"$f":"'1_申込み確認Sheet'!$I$6","v":0}]
[]
[92,null,null,null,null,null,{"$f":"IF(D190=\"\",\"\",DATEDIF(D190,'1_申込み確認Sheet'!$I$23,\"Y\"))","v":""},null,null,null,null,null,{"$f":"'1_申込み確認Sheet'!$I$6","v":0}]
[]
[93,null,null,null,null,null,{"$f":"IF(D192=\"\",\"\",DATEDIF(D192,'1_申込み確認Sheet'!$I$23,\"Y\"))","v":""},null,null,null,null,null,{"$f":"'1_申込み確認Sheet'!$I$6","v":0}]
[]
[94,null,null,null,null,null,{"$f":"IF(D194=\"\",\"\",DATEDIF(D194,'1_申込み確認Sheet'!$I$23,\"Y\"))","v":""},null,null,null,null,null,{"$f":"'1_申込み確認Sheet'!$I$6","v":0}]
[]
[95,null,null,null,null,null,{"$f":"IF(D196=\"\",\"\",DATEDIF(D196,'1_申込み確認Sheet'!$I$23,\"Y\"))","v":""},null,null,null,null,null,{"$f":"'1_申込み確認Sheet'!$I$6","v":0}]
[]
[96,null,null,null,null,null,{"$f":"IF(D198=\"\",\"\",DATEDIF(D198,'1_申込み確認Sheet'!$I$23,\"Y\"))","v":""},null,null,null,null,null,{"$f":"'1_申込み確認Sheet'!$I$6","v":0}]
[]
[97,null,null,null,null,null,{"$f":"IF(D200=\"\",\"\",DATEDIF(D200,'1_申込み確認Sheet'!$I$23,\"Y\"))","v":""},null,null,null,null,null,{"$f":"'1_申込み確認Sheet'!$I$6","v":0}]
[]
[98,null,null,null,null,null,{"$f":"IF(D202=\"\",\"\",DATEDIF(D202,'1_申込み確認Sheet'!$I$23,\"Y\"))","v":""},null,null,null,null,null,{"$f":"'1_申込み確認Sheet'!$I$6","v":0}]
[]
[99,null,null,null,null,null,{"$f":"IF(D204=\"\",\"\",DATEDIF(D204,'1_申込み確認Sheet'!$I$23,\"Y\"))","v":""},null,null,null,null,null,{"$f":"'1_申込み確認Sheet'!$I$6","v":0}]
[]
[100,null,null,null,null,null,{"$f":"IF(D206=\"\",\"\",DATEDIF(D206,'1_申込み確認Sheet'!$I$23,\"Y\"))","v":""},null,null,null,null,null,{"$f":"'1_申込み確認Sheet'!$I$6","v":0}]

{"sheet":"3_公認級申込書","index":3,"n_rows":17,"n_cols":12,"rows_kept":17,"cut":false,"hidden":false,"merged":[[16,1,16,7],[16,8,16,9],[13,1,13,9],[12,0,13,0],[14,3,14,4],[14,1,14,2],[14,5,14,9],[0,0,0,9],[12,2,12,9],[15,1,15,9],[1,8,2,9],[3,7,3,9],[9,1,9,7],[1,7,2,7],[10,1,10,7],[10,8,10,9],[9,8,9,9],[8,1,8,5],[6,6,8,7],[6,8,8,9],[11,1,11,9],[6,1,6,5],[7,1,7,5]]}
["公 認 級 位 受 審 申 込 書",null,null,null,null,null,null,null,null,null,null,1]
[null,null,null,null,null,null,null,"受審\n番号"]
[]
[null,null,null,null,null,null,null,"（記入しないでください）",null,null,null,"開始Ｎｏ"]
["宮城県空手道連盟",null,null,null,null,null,null,null,null,null,null,"終了Ｎｏ"]
["会長　西村　明宏","殿"]
["申請日",{"$f":"'1_申込み確認Sheet'!$I$23","v":"00:00:00"},null,null,null,null,"受審\n級位",null,{"$f":"VLOOKUP($L$1,'2_公認級申込Sheet'!$A$8:$N$207,11,0)","v":0},null,null,"　"]
["審査日",{"$f":"'1_申込み確認Sheet'!$I$27","v":"2021-03-07"}]
["会員番号",{"$f":"VLOOKUP($L$1,'2_公認級申込Sheet'!$A$8:$N$207,2,0)","v":0}]
["ふりがな",{"$f":"VLOOKUP($L$1,'2_公認級申込Sheet'!$A$8:$N$207,3,0)","v":0},null,null,null,null,null,null,"性別"]
["氏名",{"$f":"INDEX('2_公認級申込Sheet'!$C$8:$C$207,MATCH('3_公認級申込書'!$L$1,'2_公認級申込Sheet'!$A$8:$A$207,0)+1)","v":0},null,null,null,null,null,null,{"$f":"VLOOKUP($L$1,'2_公認級申込Sheet'!$A$8:$N$207,6,0)","v":0}]
["生年月日",{"$f":"VLOOKUP($L$1,'2_公認級申込Sheet'!$A$8:$N$207,4,0)","v":"00:00:00"}]
["現住所","〒",{"$f":"VLOOKUP($L$1,'2_公認級申込Sheet'!$A$8:$N$207,8,0)","v":0}]
[null,{"$f":"INDEX('2_公認級申込Sheet'!$H$8:$H$207,MATCH('3_公認級申込書'!$L$1,'2_公認級申込Sheet'!$A$8:$A$207,0)+1)","v":0}]
["現在級位",{"$f":"VLOOKUP($L$1,'2_公認級申込Sheet'!A8:N207,9,0)","v":0},null,"取得年月日",null,{"$f":"VLOOKUP($L$1,'2_公認級申込Sheet'!$A$8:$N$207,10,1)","v":"00:00:00"}]
["支部名",{"$f":"'1_申込み確認Sheet'!$I$6","v":0}]
["支部長名",{"$f":"'1_申込み確認Sheet'!$I$8","v":0},null,null,null,null,null,null,"印"]

{"sheet":"4_公認段申込Sheet","index":4,"n_rows":206,"n_cols":13,"rows_kept":206,"cut":false,"hidden":false,"merged":[[11,8,12,8],[0,3,0,6],[3,0,4,0],[3,3,4,4],[3,5,4,5],[3,11,4,11],[3,12,4,13],[2,3,2,4],[2,12,2,13],[7,9,8,9],[7,10,8,10],[7,11,8,11],[7,12,8,13],[9,0,10,0],[9,1,10,1],[9,3,10,4],[9,5,10,5],[9,6,10,6],[9,8,10,8],[5,9,6,9],[5,10,6,10],[5,11,6,11],[5,12,6,13],[7,0,8,0],[7,1,8,1],[7,3,8,4],[7,5,8,5],[7,6,8,6],[7,8,8,8],[5,0,6,0],[5,1,6,1],[5,3,6,4],[13,9,14,9],[13,10,14,10],[13,11,14,11],[13,12,14,13],[15,0,16,0],[15,1,16,1],[15,3,16,4],[15,5,16,5],[15,6,16,6],[15,8,16,8],[5,5,6,5],[5,6,6,6],[5,8,6,8],[11,9,12,9],[11,10,12,10],[11,11,12,11],[11,12,12,13],[13,0,14,0],[13,1,14,1],[13,3,14,4],[13,5,14,5],[13,6,14,6],[13,8,14,8],[9,9,10,9],[9,10,10,10],[9,11,10,11],[9,12,10,13],[11,0,12,0],[11,1,12,1],[11,3,12,4],[11,5,12,5],[11,6,12,6],[17,9,18,9],[17,10,18,10],[17,11,18,11],[17,12,18,13],[19,0,20,0],[19,1,20,1],[19,3,20,4],[19,5,20,5],[19,6,20,6],[19,8,20,8],[15,9,16,9],[15,10,16,10],[15,11,16,11],[15,12,16,13],[17,0,18,0],[17,1,18,1],[17,3,18,4],[17,5,18,5],[17,6,18,6],[17,8,18,8],[21,9,22,9],[21,10,22,10],[21,11,22,11],[21,12,22,13],[23,0,24,0],[23,1,24,1],[23,3,24,4],[23,5,24,5],[23,6,24,6],[23,8,24,8],[19,9,20,9],[19,10,20,10],[19,11,20,11],[19,12,20,13],[21,0,22,0],[21,1,22,1],[21,3,22,4],[21,5,22,5],[21,6,22,6],[21,8,22,8],[25,9,26,9],[25,10,26,10],[25,11,26,11],[25,12,26,13],[27,0,28,0],[27,1,28,1],[27,3,28,4],[27,5,28,5],[27,6,28,6],[27,8,28,8],[23,9,24,9],[23,10,24,10],[23,11,24,11],[23,12,24,13],[25,0,26,0],[25,1,26,1],[25,3,26,4],[25,5,26,5],[25,6,26,6],[25,8,26,8],[29,9,30,9],[29,10,30,10],[29,11,30,11],[29,12,30,13],[31,0,32,0],[31,1,32,1],[31,3,32,4],[31,5,32,5],[31,6,32,6],[31,8,32,8],[27,9,28,9],[27,10,28,10],[27,11,28,11],[27,12,28,13],[29,0,30,0],[29,1,30,1],[29,3,30,4],[29,5,30,5],[29,6,30,6],[29,8,30,8],[33,9,34,9],[33,10,34,10],[33,11,34,11],[33,12,34,13],[35,0,36,0],[35,1,36,1],[35,3,36,4],[35,5,36,5],[35,6,36,6],[35,8,36,8],[31,9,32,9],[31,10,32,10],[31,11,32,11],[31,12,32,13],[33,0,34,0],[33,1,34,1],[33,3,34,4],[33,5,34,5],[33,6,34,6],[33,8,34,8],[37,9,38,9],[37,10,38,10],[37,11,38,11],[37,12,38,13],[39,0,40,0],[39,1,40,1],[39,3,40,4],[39,5,40,5],[39,6,40,6],[39,8,40,8],[35,9,36,9],[35,10,36,10],[35,11,36,11],[35,12,36,13],[37,0,38,0],[37,1,38,1],[37,3,38,4],[37,5,38,5],[37,6,38,6],[37,8,38,8],[41,9,42,9],[41,10,42,10],[41,11,42,11],[41,12,42,13],[43,0,44,0],[43,1,44,1],[43,3,44,4],[43,5,44,5],[43,6,44,6],[43,8,44,8],[39,9,40,9],[39,10,40,10],[39,11,40,11],[39,12,40,13],[41,0,42,0],[41,1,42,1],[41,3,42,4],[41,5,42,5],[41,6,42,6],[41,8,42,8],[45,9,46,9],[45,10,46,10],[45,11,46,11],[45,12,46,13],[47,0,48,0],[47,1,48,1],[47,3,48,4],[47,5,48,5],[47,6,48,6],[47,8,48,8],[43,9,44,9],[43,10,44,10],[43,11,44,11],[43,12,44,13],[45,0,46,0],[45,1,46,1],[45,3,46,4],[45,5,46,5],[45,6,46,6],[45,8,46,8],[49,9,50,9],[49,10,50,10],[49,11,50,11],[49,12,50,13],[51,0,52,0],[51,1,52,1],[51,3,52,4],[51,5,52,5],[51,6,52,6],[51,8,52,8],[47,9,48,9],[47,10,48,10],[47,11,48,11],[47,12,48,13],[49,0,50,0],[49,1,50,1],[49,3,50,4],[49,5,50,5],[49,6,50,6],[49,8,50,8],[53,9,54,9],[53,10,54,10],[53,11,54,11],[53,12,54,13],[55,0,56,0],[55,1,56,1],[55,3,56,4],[55,5,56,5],[55,6,56,6],[55,8,56,8],[51,9,52,9],[51,10,52,10],[51,11,52,11],[51,12,52,13],[53,0,54,0],[53,1,54,1],[53,3,54,4],[53,5,54,5],[53,6,54,6],[53,8,54,8],[57,9,58,9],[57,10,58,10],[57,11,58,11],[57,12,58,13],[59,0,60,0],[59,1,60,1],[59,3,60,4],[59,5,60,5],[59,6,60,6],[59,8,60,8],[55,9,56,9],[55,10,56,10],[55,11,56,11],[55,12,56,13],[57,0,58,0],[57,1,58,1],[57,3,58,4],[57,5,58,5],[57,6,58,6],[57,8,58,8],[61,9,62,9],[61,10,62,10],[61,11,62,11],[61,12,62,13],[63,0,64,0],[63,1,64,1],[63,3,64,4],[63,5,64,5],[63,6,64,6],[63,8,64,8],[59,9,60,9],[59,10,60,10],[59,11,60,11],[59,12,60,13],[61,0,62,0],[61,1,62,1],[61,3,62,4],[61,5,62,5],[61,6,62,6],[61,8,62,8],[65,9,66,9],[65,10,66,10],[65,11,66,11],[65,12,66,13],[67,0,68,0],[67,1,68,1],[67,3,68,4],[67,5,68,5],[67,6,68,6],[67,8,68,8],[63,9,64,9],[63,10,64,10],[63,11,64,11],[63,12,64,13],[65,0,66,0],[65,1,66,1],[65,3,66,4],[65,5,66,5],[65,6,66,6],[65,8,66,8],[69,9,70,9],[69,10,70,10],[69,11,70,11],[69,12,70,13],[71,0,72,0],[71,1,72,1],[71,3,72,4],[71,5,72,5],[71,6,72,6],[71,8,72,8],[67,9,68,9],[67,10,68,10],[67,11,68,11],[67,12,68,13],[69,0,70,0],[69,1,70,1],[69,3,70,4],[69,5,70,5],[69,6,70,6],[69,8,70,8],[73,9,74,9],[73,10,74,10],[73,11,74,11],[73,12,74,13],[75,0,76,0],[75,1,76,1],[75,3,76,4],[75,5,76,5],[75,6,76,6],[75,8,76,8],[71,9,72,9],[71,10,72,10],[71,11,72,11],[71,12,72,13],[73,0,74,0],[73,1,74,1],[73,3,74,4],[73,5,74,5],[73,6,74,6],[73,8,74,8],[77,9,78,9],[77,10,78,10],[77,11,78,11],[77,12,78,13],[79,0,80,0],[79,1,80,1],[79,3,80,4],[79,5,80,5],[79,6,80,6],[79,8,80,8],[75,9,76,9],[75,10,76,10],[75,11,76,11],[75,12,76,13],[77,0,78,0],[77,1,78,1],[77,3,78,4],[77,5,78,5],[77,6,78,6],[77,8,78,8],[81,9,82,9],[81,10,82,10],[81,11,82,11],[81,12,82,13],[83,0,84,0],[83,1,84,1],[83,3,84,4],[83,5,84,5],[83,6,84,6],[83,8,84,8],[79,9,80,9],[79,10,80,10],[79,11,80,11],[79,12,80,13],[81,0,82,0],[81,1,82,1],[81,3,82,4],[81,5,82,5],[81,6,82,6],[81,8,82,8],[85,9,86,9],[85,10,86,10],[85,11,86,11],[85,12,86,13],[87,0,88,0],[87,1,88,1],[87,3,88,4],[87,5,88,5],[87,6,88,6],[87,8,88,8],[83,9,84,9],[83,10,84,10],[83,11,84,11],[83,12,84,13],[85,0,86,0],[85,1,86,1],[85,3,86,4],[85,5,86,5],[85,6,86,6],[85,8,86,8],[89,9,90,9],[89,10,90,10],[89,11,90,11],[89,12,90,13],[91,0,92,0],[91,1,92,1],[91,3,92,4],[91,5,92,5],[91,6,92,6],[91,8,92,8],[87,9,88,9],[87,10,88,10],[87,11,88,11],[87,12,88,13],[89,0,90,0],[89,1,90,1],[89,3,90,4],[89,5,90,5],[89,6,90,6],[89,8,90,8],[93,9,94,9],[93,10,94,10],[93,11,94,11],[93,12,94,13],[95,0,96,0],[95,1,96,1],[95,3,96,4],[95,5,96,5],[95,6,96,6],[95,8,96,8],[91,9,92,9],[91,10,92,10],[91,11,92,11],[91,12,92,13],[93,0,94,0],[93,1,94,1],[93,3,94,4],[93,5,94,5],[93,6,94,6],[93,8,94,8],[97,9,98,9],[97,10,98,10],[97,11,98,11],[97,12,98,13],[99,0,100,0],[99,1,100,1],[99,3,100,4],[99,5,100,5],[99,6,100,6],[99,8,100,8],[95,9,96,9],[95,10,96,10],[95,11,96,11],[95,12,96,13],[97,0,98,0],[97,1,98,1],[97,3,98,4],[97,5,98,5],[97,6,98,6],[97,8,98,8],[101,9,102,9],[101,10,102,10],[101,11,102,11],[101,12,102,13],[103,0,104,0],[103,1,104,1],[103,3,104,4],[103,5,104,5],[103,6,104,6],[103,8,104,8],[99,9,100,9],[99,10,100,10],[99,11,100,11],[99,12,100,13],[101,0,102,0],[101,1,102,1],[101,3,102,4],[101,5,102,5],[101,6,102,6],[101,8,102,8],[105,9,106,9],[105,10,106,10],[105,11,106,11],[105,12,106,13],[107,0,108,0],[107,1,108,1],[107,3,108,4],[107,5,108,5],[107,6,108,6],[107,8,108,8],[103,9,104,9],[103,10,104,10],[103,11,104,11],[103,12,104,13],[105,0,106,0],[105,1,106,1],[105,3,106,4],[105,5,106,5],[105,6,106,6],[105,8,106,8],[109,9,110,9],[109,10,110,10],[109,11,110,11],[109,12,110,13],[111,0,112,0],[111,1,112,1],[111,3,112,4],[111,5,112,5],[111,6,112,6],[111,8,112,8],[107,9,108,9],[107,10,108,10],[107,11,108,11],[107,12,108,13],[109,0,110,0],[109,1,110,1],[109,3,110,4],[109,5,110,5],[109,6,110,6],[109,8,110,8],[113,9,114,9],[113,10,114,10],[113,11,114,11],[113,12,114,13],[115,0,116,0],[115,1,116,1],[115,3,116,4],[115,5,116,5],[115,6,116,6],[115,8,116,8],[111,9,112,9],[111,10,112,10],[111,11,112,11],[111,12,112,13],[113,0,114,0],[113,1,114,1],[113,3,114,4],[113,5,114,5],[113,6,114,6],[113,8,114,8],[117,9,118,9],[117,10,118,10],[117,11,118,11],[117,12,118,13],[119,0,120,0],[119,1,120,1],[119,3,120,4],[119,5,120,5],[119,6,120,6],[119,8,120,8],[115,9,116,9],[115,10,116,10],[115,11,116,11],[115,12,116,13],[117,0,118,0],[117,1,118,1],[117,3,118,4],[117,5,118,5],[117,6,118,6],[117,8,118,8],[121,9,122,9],[121,10,122,10],[121,11,122,11],[121,12,122,13],[123,0,124,0],[123,1,124,1],[123,3,124,4],[123,5,124,5],[123,6,124,6],[123,8,124,8],[119,9,120,9],[119,10,120,10],[119,11,120,11],[119,12,120,13],[121,0,122,0],[121,1,122,1],[121,3,122,4],[121,5,122,5],[121,6,122,6],[121,8,122,8],[125,9,126,9],[125,10,126,10],[125,11,126,11],[125,12,126,13],[127,0,128,0],[127,1,128,1],[127,3,128,4],[127,5,128,5],[127,6,128,6],[127,8,128,8],[123,9,124,9],[123,10,124,10],[123,11,124,11],[123,12,124,13],[125,0,126,0],[125,1,126,1],[125,3,126,4],[125,5,126,5],[125,6,126,6],[125,8,126,8],[129,9,130,9],[129,10,130,10],[129,11,130,11],[129,12,130,13],[131,0,132,0],[131,1,132,1],[131,3,132,4],[131,5,132,5],[131,6,132,6],[131,8,132,8],[127,9,128,9],[127,10,128,10],[127,11,128,11],[127,12,128,13],[129,0,130,0],[129,1,130,1],[129,3,130,4],[129,5,130,5],[129,6,130,6],[129,8,130,8],[133,9,134,9],[133,10,134,10],[133,11,134,11],[133,12,134,13],[135,0,136,0],[135,1,136,1],[135,3,136,4],[135,5,136,5],[135,6,136,6],[135,8,136,8],[131,9,132,9],[131,10,132,10],[131,11,132,11],[131,12,132,13],[133,0,134,0],[133,1,134,1],[133,3,134,4],[133,5,134,5],[133,6,134,6],[133,8,134,8],[137,9,138,9],[137,10,138,10],[137,11,138,11],[137,12,138,13],[139,0,140,0],[139,1,140,1],[139,3,140,4],[139,5,140,5],[139,6,140,6],[139,8,140,8],[135,9,136,9],[135,10,136,10],[135,11,136,11],[135,12,136,13],[137,0,138,0],[137,1,138,1],[137,3,138,4],[137,5,138,5],[137,6,138,6],[137,8,138,8],[141,9,142,9],[141,10,142,10],[141,11,142,11],[141,12,142,13],[143,0,144,0],[143,1,144,1],[143,3,144,4],[143,5,144,5],[143,6,144,6],[143,8,144,8],[139,9,140,9],[139,10,140,10],[139,11,140,11],[139,12,140,13],[141,0,142,0],[141,1,142,1],[141,3,142,4],[141,5,142,5],[141,6,142,6],[141,8,142,8],[145,9,146,9],[145,10,146,10],[145,11,146,11],[145,12,146,13],[147,0,148,0],[147,1,148,1],[147,3,148,4],[147,5,148,5],[147,6,148,6],[147,8,148,8],[143,9,144,9],[143,10,144,10],[143,11,144,11],[143,12,144,13],[145,0,146,0],[145,1,146,1],[145,3,146,4],[145,5,146,5],[145,6,146,6],[145,8,146,8],[149,9,150,9],[149,10,150,10],[149,11,150,11],[149,12,150,13],[151,0,152,0],[151,1,152,1],[151,3,152,4],[151,5,152,5],[151,6,152,6],[151,8,152,8],[147,9,148,9],[147,10,148,10],[147,11,148,11],[147,12,148,13],[149,0,150,0],[149,1,150,1],[149,3,150,4],[149,5,150,5],[149,6,150,6],[149,8,150,8],[153,9,154,9],[153,10,154,10],[153,11,154,11],[153,12,154,13],[155,0,156,0],[155,1,156,1],[155,3,156,4],[155,5,156,5],[155,6,156,6],[155,8,156,8],[151,9,152,9],[151,10,152,10],[151,11,152,11],[151,12,152,13],[153,0,154,0],[153,1,154,1],[153,3,154,4],[153,5,154,5],[153,6,154,6],[153,8,154,8],[157,9,158,9],[157,10,158,10],[157,11,158,11],[157,12,158,13],[159,0,160,0],[159,1,160,1],[159,3,160,4],[159,5,160,5],[159,6,160,6],[159,8,160,8],[155,9,156,9],[155,10,156,10],[155,11,156,11],[155,12,156,13],[157,0,158,0],[157,1,158,1],[157,3,158,4],[157,5,158,5],[157,6,158,6],[157,8,158,8],[161,9,162,9],[161,10,162,10],[161,11,162,11],[161,12,162,13],[163,0,164,0],[163,1,164,1],[163,3,164,4],[163,5,164,5],[163,6,164,6],[163,8,164,8],[159,9,160,9],[159,10,160,10],[159,11,160,11],[159,12,160,13],[161,0,162,0],[161,1,162,1],[161,3,162,4],[161,5,162,5],[161,6,162,6],[161,8,162,8],[165,9,166,9],[165,10,166,10],[165,11,166,11],[165,12,166,13],[167,0,168,0],[167,1,168,1],[167,3,168,4],[167,5,168,5],[167,6,168,6],[167,8,168,8],[163,9,164,9],[163,10,164,10],[163,11,164,11],[163,12,164,13],[165,0,166,0],[165,1,166,1],[165,3,166,4],[165,5,166,5],[165,6,166,6],[165,8,166,8],[169,9,170,9],[169,10,170,10],[169,11,170,11],[169,12,170,13],[171,0,172,0],[171,1,172,1],[171,3,172,4],[171,5,172,5],[171,6,172,6],[171,8,172,8],[167,9,168,9],[167,10,168,10],[167,11,168,11],[167,12,168,13],[169,0,170,0],[169,1,170,1],[169,3,170,4],[169,5,170,5],[169,6,170,6],[169,8,170,8],[173,9,174,9],[173,10,174,10],[173,11,174,11],[173,12,174,13],[175,0,176,0],[175,1,176,1],[175,3,176,4],[175,5,176,5],[175,6,176,6],[175,8,176,8],[171,9,172,9],[171,10,172,10],[171,11,172,11],[171,12,172,13],[173,0,174,0],[173,1,174,1],[173,3,174,4],[173,5,174,5],[173,6,174,6],[173,8,174,8],[177,9,178,9],[177,10,178,10],[177,11,178,11],[177,12,178,13],[179,0,180,0],[179,1,180,1],[179,3,180,4],[179,5,180,5],[179,6,180,6],[179,8,180,8],[175,9,176,9],[175,10,176,10],[175,11,176,11],[175,12,176,13],[177,0,178,0],[177,1,178,1],[177,3,178,4],[177,5,178,5],[177,6,178,6],[177,8,178,8],[181,9,182,9],[181,10,182,10],[181,11,182,11],[181,12,182,13],[183,0,184,0],[183,1,184,1],[183,3,184,4],[183,5,184,5],[183,6,184,6],[183,8,184,8],[179,9,180,9],[179,10,180,10],[179,11,180,11],[179,12,180,13],[181,0,182,0],[181,1,182,1],[181,3,182,4],[181,5,182,5],[181,6,182,6],[181,8,182,8],[185,9,186,9],[185,10,186,10],[185,11,186,11],[185,12,186,13],[187,0,188,0],[187,1,188,1],[187,3,188,4],[187,5,188,5],[187,6,188,6],[187,8,188,8],[183,9,184,9],[183,10,184,10],[183,11,184,11],[183,12,184,13],[185,0,186,0],[185,1,186,1],[185,3,186,4],[185,5,186,5],[185,6,186,6],[185,8,186,8],[189,9,190,9],[189,10,190,10],[189,11,190,11],[189,12,190,13],[191,0,192,0],[191,1,192,1],[191,3,192,4],[191,5,192,5],[191,6,192,6],[191,8,192,8],[187,9,188,9],[187,10,188,10],[187,11,188,11],[187,12,188,13],[189,0,190,0],[189,1,190,1],[189,3,190,4],[189,5,190,5],[189,6,190,6],[189,8,190,8],[193,9,194,9],[193,10,194,10],[193,11,194,11],[193,12,194,13],[195,0,196,0],[195,1,196,1],[195,3,196,4],[195,5,196,5],[195,6,196,6],[195,8,196,8],[191,9,192,9],[191,10,192,10],[191,11,192,11],[191,12,192,13],[193,0,194,0],[193,1,194,1],[193,3,194,4],[193,5,194,5],[193,6,194,6],[193,8,194,8],[201,5,202,5],[201,6,202,6],[201,8,202,8],[197,9,198,9],[197,10,198,10],[197,11,198,11],[197,12,198,13],[199,0,200,0],[199,1,200,1],[199,3,200,4],[199,5,200,5],[199,6,200,6],[199,8,200,8],[195,9,196,9],[195,10,196,10],[195,11,196,11],[195,12,196,13],[197,0,198,0],[197,1,198,1],[197,3,198,4],[197,5,198,5],[197,6,198,6],[197,8,198,8],[1,1,1,12],[205,9,206,9],[205,10,206,10],[205,11,206,11],[205,12,206,13],[203,9,204,9],[203,10,204,10],[203,11,204,11],[203,12,204,13],[205,0,206,0],[205,1,206,1],[205,3,206,4],[205,5,206,5]],"merged_total":1019,"flags":["merged_cut"]}
["※",null,"に入力して下さい。","このSheetの進め方　迷ったらここ！"]
[null,"令和３年度 宮城県空手道連盟 公認段審査 申込みシート"]
[null,"①","②","③",null,"④",null,"⑤","⑥","⑦","⑧","⑨","全ての入力が終了したら公認\n段申込書で確認して下さい。"]
["Ｎｏ","全 空 連","ふ　　り　　が　　な","生年月日\n（西暦/月/日と入力）",null,"性別","年令","上段〒番号","段位","取得年月日","受審","区分","支部名"]
[null,"会員番号","氏　　　　　名",null,null,null,"（満）","下段現住所","1級位","（西暦/月/日と入力）","段位"]
["例",12345678,"みやぎ　だんじろう","2006-07-15",null,"男",{"$f":"IF(D6=\"\",\"\",DATEDIF(D6,'1_申込み確認Sheet'!$I$23,\"Y\"))","v":{"$error":"#NUM!"}},"９８７－０６０２","公認1級","2017-04-29","公認初段","少年",{"$f":"'1_申込み確認Sheet'!$I$6","v":0}]
[null,null,"宮城　段次郎",null,null,null,null,"登米市中田町上沼字北桜場２２３－１"]
[1,null,null,null,null,null,{"$f":"IF(D8=\"\",\"\",DATEDIF(D8,'1_申込み確認Sheet'!$I$23,\"Y\"))","v":""},null,null,null,null,null,{"$f":"'1_申込み確認Sheet'!$I$6","v":0}]
[]
[2,null,null,null,null,null,{"$f":"IF(D10=\"\",\"\",DATEDIF(D10,'1_申込み確認Sheet'!$I$23,\"Y\"))","v":""},null,null,null,null,null,{"$f":"'1_申込み確認Sheet'!$I$6","v":0}]
[]
[3,null,null,null,null,null,{"$f":"IF(D12=\"\",\"\",DATEDIF(D12,'1_申込み確認Sheet'!$I$23,\"Y\"))","v":""},null,null,null,null,null,{"$f":"'1_申込み確認Sheet'!$I$6","v":0}]
[]
[4,null,null,null,null,null,{"$f":"IF(D14=\"\",\"\",DATEDIF(D14,'1_申込み確認Sheet'!$I$23,\"Y\"))","v":""},null,null,null,null,null,{"$f":"'1_申込み確認Sheet'!$I$6","v":0}]
[]
[5,null,null,null,null,null,{"$f":"IF(D16=\"\",\"\",DATEDIF(D16,'1_申込み確認Sheet'!$I$23,\"Y\"))","v":""},null,null,null,null,null,{"$f":"'1_申込み確認Sheet'!$I$6","v":0}]
[]
[6,null,null,null,null,null,{"$f":"IF(D18=\"\",\"\",DATEDIF(D18,'1_申込み確認Sheet'!$I$23,\"Y\"))","v":""},null,null,null,null,null,{"$f":"'1_申込み確認Sheet'!$I$6","v":0}]
[]
[7,null,null,null,null,null,{"$f":"IF(D20=\"\",\"\",DATEDIF(D20,'1_申込み確認Sheet'!$I$23,\"Y\"))","v":""},null,null,null,null,null,{"$f":"'1_申込み確認Sheet'!$I$6","v":0}]
[]
[8,null,null,null,null,null,{"$f":"IF(D22=\"\",\"\",DATEDIF(D22,'1_申込み確認Sheet'!$I$23,\"Y\"))","v":""},null,null,null,null,null,{"$f":"'1_申込み確認Sheet'!$I$6","v":0}]
[]
[9,null,null,null,null,null,{"$f":"IF(D24=\"\",\"\",DATEDIF(D24,'1_申込み確認Sheet'!$I$23,\"Y\"))","v":""},null,null,null,null,null,{"$f":"'1_申込み確認Sheet'!$I$6","v":0}]
[]
[10,null,null,null,null,null,{"$f":"IF(D26=\"\",\"\",DATEDIF(D26,'1_申込み確認Sheet'!$I$23,\"Y\"))","v":""},null,null,null,null,null,{"$f":"'1_申込み確認Sheet'!$I$6","v":0}]
[]
[11,null,null,null,null,null,{"$f":"IF(D28=\"\",\"\",DATEDIF(D28,'1_申込み確認Sheet'!$I$23,\"Y\"))","v":""},null,null,null,null,null,{"$f":"'1_申込み確認Sheet'!$I$6","v":0}]
[]
[12,null,null,null,null,null,{"$f":"IF(D30=\"\",\"\",DATEDIF(D30,'1_申込み確認Sheet'!$I$23,\"Y\"))","v":""},null,null,null,null,null,{"$f":"'1_申込み確認Sheet'!$I$6","v":0}]
[]
[13,null,null,null,null,null,{"$f":"IF(D32=\"\",\"\",DATEDIF(D32,'1_申込み確認Sheet'!$I$23,\"Y\"))","v":""},null,null,null,null,null,{"$f":"'1_申込み確認Sheet'!$I$6","v":0}]
[]
[14,null,null,null,null,null,{"$f":"IF(D34=\"\",\"\",DATEDIF(D34,'1_申込み確認Sheet'!$I$23,\"Y\"))","v":""},null,null,null,null,null,{"$f":"'1_申込み確認Sheet'!$I$6","v":0}]
[]
[15,null,null,null,null,null,{"$f":"IF(D36=\"\",\"\",DATEDIF(D36,'1_申込み確認Sheet'!$I$23,\"Y\"))","v":""},null,null,null,null,null,{"$f":"'1_申込み確認Sheet'!$I$6","v":0}]
[]
[16,null,null,null,null,null,{"$f":"IF(D38=\"\",\"\",DATEDIF(D38,'1_申込み確認Sheet'!$I$23,\"Y\"))","v":""},null,null,null,null,null,{"$f":"'1_申込み確認Sheet'!$I$6","v":0}]
[]
[17,null,null,null,null,null,{"$f":"IF(D40=\"\",\"\",DATEDIF(D40,'1_申込み確認Sheet'!$I$23,\"Y\"))","v":""},null,null,null,null,null,{"$f":"'1_申込み確認Sheet'!$I$6","v":0}]
[]
[18,null,null,null,null,null,{"$f":"IF(D42=\"\",\"\",DATEDIF(D42,'1_申込み確認Sheet'!$I$23,\"Y\"))","v":""},null,null,null,null,null,{"$f":"'1_申込み確認Sheet'!$I$6","v":0}]
[]
[19,null,null,null,null,null,{"$f":"IF(D44=\"\",\"\",DATEDIF(D44,'1_申込み確認Sheet'!$I$23,\"Y\"))","v":""},null,null,null,null,null,{"$f":"'1_申込み確認Sheet'!$I$6","v":0}]
[]
[20,null,null,null,null,null,{"$f":"IF(D46=\"\",\"\",DATEDIF(D46,'1_申込み確認Sheet'!$I$23,\"Y\"))","v":""},null,null,null,null,null,{"$f":"'1_申込み確認Sheet'!$I$6","v":0}]
[]
[21,null,null,null,null,null,{"$f":"IF(D48=\"\",\"\",DATEDIF(D48,'1_申込み確認Sheet'!$I$23,\"Y\"))","v":""},null,null,null,null,null,{"$f":"'1_申込み確認Sheet'!$I$6","v":0}]
[]
[22,null,null,null,null,null,{"$f":"IF(D50=\"\",\"\",DATEDIF(D50,'1_申込み確認Sheet'!$I$23,\"Y\"))","v":""},null,null,null,null,null,{"$f":"'1_申込み確認Sheet'!$I$6","v":0}]
[]
[23,null,null,null,null,null,{"$f":"IF(D52=\"\",\"\",DATEDIF(D52,'1_申込み確認Sheet'!$I$23,\"Y\"))","v":""},null,null,null,null,null,{"$f":"'1_申込み確認Sheet'!$I$6","v":0}]
[]
[24,null,null,null,null,null,{"$f":"IF(D54=\"\",\"\",DATEDIF(D54,'1_申込み確認Sheet'!$I$23,\"Y\"))","v":""},null,null,null,null,null,{"$f":"'1_申込み確認Sheet'!$I$6","v":0}]
[]
[25,null,null,null,null,null,{"$f":"IF(D56=\"\",\"\",DATEDIF(D56,'1_申込み確認Sheet'!$I$23,\"Y\"))","v":""},null,null,null,null,null,{"$f":"'1_申込み確認Sheet'!$I$6","v":0}]
[]
[26,null,null,null,null,null,{"$f":"IF(D58=\"\",\"\",DATEDIF(D58,'1_申込み確認Sheet'!$I$23,\"Y\"))","v":""},null,null,null,null,null,{"$f":"'1_申込み確認Sheet'!$I$6","v":0}]
[]
[27,null,null,null,null,null,{"$f":"IF(D60=\"\",\"\",DATEDIF(D60,'1_申込み確認Sheet'!$I$23,\"Y\"))","v":""},null,null,null,null,null,{"$f":"'1_申込み確認Sheet'!$I$6","v":0}]
[]
[28,null,null,null,null,null,{"$f":"IF(D62=\"\",\"\",DATEDIF(D62,'1_申込み確認Sheet'!$I$23,\"Y\"))","v":""},null,null,null,null,null,{"$f":"'1_申込み確認Sheet'!$I$6","v":0}]
[]
[29,null,null,null,null,null,{"$f":"IF(D64=\"\",\"\",DATEDIF(D64,'1_申込み確認Sheet'!$I$23,\"Y\"))","v":""},null,null,null,null,null,{"$f":"'1_申込み確認Sheet'!$I$6","v":0}]
[]
[30,null,null,null,null,null,{"$f":"IF(D66=\"\",\"\",DATEDIF(D66,'1_申込み確認Sheet'!$I$23,\"Y\"))","v":""},null,null,null,null,null,{"$f":"'1_申込み確認Sheet'!$I$6","v":0}]
[]
[31,null,null,null,null,null,{"$f":"IF(D68=\"\",\"\",DATEDIF(D68,'1_申込み確認Sheet'!$I$23,\"Y\"))","v":""},null,null,null,null,null,{"$f":"'1_申込み確認Sheet'!$I$6","v":0}]
[]
[32,null,null,null,null,null,{"$f":"IF(D70=\"\",\"\",DATEDIF(D70,'1_申込み確認Sheet'!$I$23,\"Y\"))","v":""},null,null,null,null,null,{"$f":"'1_申込み確認Sheet'!$I$6","v":0}]
[]
[33,null,null,null,null,null,{"$f":"IF(D72=\"\",\"\",DATEDIF(D72,'1_申込み確認Sheet'!$I$23,\"Y\"))","v":""},null,null,null,null,null,{"$f":"'1_申込み確認Sheet'!$I$6","v":0}]
[]
[34,null,null,null,null,null,{"$f":"IF(D74=\"\",\"\",DATEDIF(D74,'1_申込み確認Sheet'!$I$23,\"Y\"))","v":""},null,null,null,null,null,{"$f":"'1_申込み確認Sheet'!$I$6","v":0}]
[]
[35,null,null,null,null,null,{"$f":"IF(D76=\"\",\"\",DATEDIF(D76,'1_申込み確認Sheet'!$I$23,\"Y\"))","v":""},null,null,null,null,null,{"$f":"'1_申込み確認Sheet'!$I$6","v":0}]
[]
[36,null,null,null,null,null,{"$f":"IF(D78=\"\",\"\",DATEDIF(D78,'1_申込み確認Sheet'!$I$23,\"Y\"))","v":""},null,null,null,null,null,{"$f":"'1_申込み確認Sheet'!$I$6","v":0}]
[]
[37,null,null,null,null,null,{"$f":"IF(D80=\"\",\"\",DATEDIF(D80,'1_申込み確認Sheet'!$I$23,\"Y\"))","v":""},null,null,null,null,null,{"$f":"'1_申込み確認Sheet'!$I$6","v":0}]
[]
[38,null,null,null,null,null,{"$f":"IF(D82=\"\",\"\",DATEDIF(D82,'1_申込み確認Sheet'!$I$23,\"Y\"))","v":""},null,null,null,null,null,{"$f":"'1_申込み確認Sheet'!$I$6","v":0}]
[]
[39,null,null,null,null,null,{"$f":"IF(D84=\"\",\"\",DATEDIF(D84,'1_申込み確認Sheet'!$I$23,\"Y\"))","v":""},null,null,null,null,null,{"$f":"'1_申込み確認Sheet'!$I$6","v":0}]
[]
[40,null,null,null,null,null,{"$f":"IF(D86=\"\",\"\",DATEDIF(D86,'1_申込み確認Sheet'!$I$23,\"Y\"))","v":""},null,null,null,null,null,{"$f":"'1_申込み確認Sheet'!$I$6","v":0}]
[]
[41,null,null,null,null,null,{"$f":"IF(D88=\"\",\"\",DATEDIF(D88,'1_申込み確認Sheet'!$I$23,\"Y\"))","v":""},null,null,null,null,null,{"$f":"'1_申込み確認Sheet'!$I$6","v":0}]
[]
[42,null,null,null,null,null,{"$f":"IF(D90=\"\",\"\",DATEDIF(D90,'1_申込み確認Sheet'!$I$23,\"Y\"))","v":""},null,null,null,null,null,{"$f":"'1_申込み確認Sheet'!$I$6","v":0}]
[]
[43,null,null,null,null,null,{"$f":"IF(D92=\"\",\"\",DATEDIF(D92,'1_申込み確認Sheet'!$I$23,\"Y\"))","v":""},null,null,null,null,null,{"$f":"'1_申込み確認Sheet'!$I$6","v":0}]
[]
[44,null,null,null,null,null,{"$f":"IF(D94=\"\",\"\",DATEDIF(D94,'1_申込み確認Sheet'!$I$23,\"Y\"))","v":""},null,null,null,null,null,{"$f":"'1_申込み確認Sheet'!$I$6","v":0}]
[]
[45,null,null,null,null,null,{"$f":"IF(D96=\"\",\"\",DATEDIF(D96,'1_申込み確認Sheet'!$I$23,\"Y\"))","v":""},null,null,null,null,null,{"$f":"'1_申込み確認Sheet'!$I$6","v":0}]
[]
[46,null,null,null,null,null,{"$f":"IF(D98=\"\",\"\",DATEDIF(D98,'1_申込み確認Sheet'!$I$23,\"Y\"))","v":""},null,null,null,null,null,{"$f":"'1_申込み確認Sheet'!$I$6","v":0}]
[]
[47,null,null,null,null,null,{"$f":"IF(D100=\"\",\"\",DATEDIF(D100,'1_申込み確認Sheet'!$I$23,\"Y\"))","v":""},null,null,null,null,null,{"$f":"'1_申込み確認Sheet'!$I$6","v":0}]
[]
[48,null,null,null,null,null,{"$f":"IF(D102=\"\",\"\",DATEDIF(D102,'1_申込み確認Sheet'!$I$23,\"Y\"))","v":""},null,null,null,null,null,{"$f":"'1_申込み確認Sheet'!$I$6","v":0}]
[]
[49,null,null,null,null,null,{"$f":"IF(D104=\"\",\"\",DATEDIF(D104,'1_申込み確認Sheet'!$I$23,\"Y\"))","v":""},null,null,null,null,null,{"$f":"'1_申込み確認Sheet'!$I$6","v":0}]
[]
[50,null,null,null,null,null,{"$f":"IF(D106=\"\",\"\",DATEDIF(D106,'1_申込み確認Sheet'!$I$23,\"Y\"))","v":""},null,null,null,null,null,{"$f":"'1_申込み確認Sheet'!$I$6","v":0}]
[]
[51,null,null,null,null,null,{"$f":"IF(D108=\"\",\"\",DATEDIF(D108,'1_申込み確認Sheet'!$I$23,\"Y\"))","v":""},null,null,null,null,null,{"$f":"'1_申込み確認Sheet'!$I$6","v":0}]
[]
[52,null,null,null,null,null,{"$f":"IF(D110=\"\",\"\",DATEDIF(D110,'1_申込み確認Sheet'!$I$23,\"Y\"))","v":""},null,null,null,null,null,{"$f":"'1_申込み確認Sheet'!$I$6","v":0}]
[]
[53,null,null,null,null,null,{"$f":"IF(D112=\"\",\"\",DATEDIF(D112,'1_申込み確認Sheet'!$I$23,\"Y\"))","v":""},null,null,null,null,null,{"$f":"'1_申込み確認Sheet'!$I$6","v":0}]
[]
[54,null,null,null,null,null,{"$f":"IF(D114=\"\",\"\",DATEDIF(D114,'1_申込み確認Sheet'!$I$23,\"Y\"))","v":""},null,null,null,null,null,{"$f":"'1_申込み確認Sheet'!$I$6","v":0}]
[]
[55,null,null,null,null,null,{"$f":"IF(D116=\"\",\"\",DATEDIF(D116,'1_申込み確認Sheet'!$I$23,\"Y\"))","v":""},null,null,null,null,null,{"$f":"'1_申込み確認Sheet'!$I$6","v":0}]
[]
[56,null,null,null,null,null,{"$f":"IF(D118=\"\",\"\",DATEDIF(D118,'1_申込み確認Sheet'!$I$23,\"Y\"))","v":""},null,null,null,null,null,{"$f":"'1_申込み確認Sheet'!$I$6","v":0}]
[]
[57,null,null,null,null,null,{"$f":"IF(D120=\"\",\"\",DATEDIF(D120,'1_申込み確認Sheet'!$I$23,\"Y\"))","v":""},null,null,null,null,null,{"$f":"'1_申込み確認Sheet'!$I$6","v":0}]
[]
[58,null,null,null,null,null,{"$f":"IF(D122=\"\",\"\",DATEDIF(D122,'1_申込み確認Sheet'!$I$23,\"Y\"))","v":""},null,null,null,null,null,{"$f":"'1_申込み確認Sheet'!$I$6","v":0}]
[]
[59,null,null,null,null,null,{"$f":"IF(D124=\"\",\"\",DATEDIF(D124,'1_申込み確認Sheet'!$I$23,\"Y\"))","v":""},null,null,null,null,null,{"$f":"'1_申込み確認Sheet'!$I$6","v":0}]
[]
[60,null,null,null,null,null,{"$f":"IF(D126=\"\",\"\",DATEDIF(D126,'1_申込み確認Sheet'!$I$23,\"Y\"))","v":""},null,null,null,null,null,{"$f":"'1_申込み確認Sheet'!$I$6","v":0}]
[]
[61,null,null,null,null,null,{"$f":"IF(D128=\"\",\"\",DATEDIF(D128,'1_申込み確認Sheet'!$I$23,\"Y\"))","v":""},null,null,null,null,null,{"$f":"'1_申込み確認Sheet'!$I$6","v":0}]
[]
[62,null,null,null,null,null,{"$f":"IF(D130=\"\",\"\",DATEDIF(D130,'1_申込み確認Sheet'!$I$23,\"Y\"))","v":""},null,null,null,null,null,{"$f":"'1_申込み確認Sheet'!$I$6","v":0}]
[]
[63,null,null,null,null,null,{"$f":"IF(D132=\"\",\"\",DATEDIF(D132,'1_申込み確認Sheet'!$I$23,\"Y\"))","v":""},null,null,null,null,null,{"$f":"'1_申込み確認Sheet'!$I$6","v":0}]
[]
[64,null,null,null,null,null,{"$f":"IF(D134=\"\",\"\",DATEDIF(D134,'1_申込み確認Sheet'!$I$23,\"Y\"))","v":""},null,null,null,null,null,{"$f":"'1_申込み確認Sheet'!$I$6","v":0}]
[]
[65,null,null,null,null,null,{"$f":"IF(D136=\"\",\"\",DATEDIF(D136,'1_申込み確認Sheet'!$I$23,\"Y\"))","v":""},null,null,null,null,null,{"$f":"'1_申込み確認Sheet'!$I$6","v":0}]
[]
[66,null,null,null,null,null,{"$f":"IF(D138=\"\",\"\",DATEDIF(D138,'1_申込み確認Sheet'!$I$23,\"Y\"))","v":""},null,null,null,null,null,{"$f":"'1_申込み確認Sheet'!$I$6","v":0}]
[]
[67,null,null,null,null,null,{"$f":"IF(D140=\"\",\"\",DATEDIF(D140,'1_申込み確認Sheet'!$I$23,\"Y\"))","v":""},null,null,null,null,null,{"$f":"'1_申込み確認Sheet'!$I$6","v":0}]
[]
[68,null,null,null,null,null,{"$f":"IF(D142=\"\",\"\",DATEDIF(D142,'1_申込み確認Sheet'!$I$23,\"Y\"))","v":""},null,null,null,null,null,{"$f":"'1_申込み確認Sheet'!$I$6","v":0}]
[]
[69,null,null,null,null,null,{"$f":"IF(D144=\"\",\"\",DATEDIF(D144,'1_申込み確認Sheet'!$I$23,\"Y\"))","v":""},null,null,null,null,null,{"$f":"'1_申込み確認Sheet'!$I$6","v":0}]
[]
[70,null,null,null,null,null,{"$f":"IF(D146=\"\",\"\",DATEDIF(D146,'1_申込み確認Sheet'!$I$23,\"Y\"))","v":""},null,null,null,null,null,{"$f":"'1_申込み確認Sheet'!$I$6","v":0}]
[]
[71,null,null,null,null,null,{"$f":"IF(D148=\"\",\"\",DATEDIF(D148,'1_申込み確認Sheet'!$I$23,\"Y\"))","v":""},null,null,null,null,null,{"$f":"'1_申込み確認Sheet'!$I$6","v":0}]
[]
[72,null,null,null,null,null,{"$f":"IF(D150=\"\",\"\",DATEDIF(D150,'1_申込み確認Sheet'!$I$23,\"Y\"))","v":""},null,null,null,null,null,{"$f":"'1_申込み確認Sheet'!$I$6","v":0}]
[]
[73,null,null,null,null,null,{"$f":"IF(D152=\"\",\"\",DATEDIF(D152,'1_申込み確認Sheet'!$I$23,\"Y\"))","v":""},null,null,null,null,null,{"$f":"'1_申込み確認Sheet'!$I$6","v":0}]
[]
[74,null,null,null,null,null,{"$f":"IF(D154=\"\",\"\",DATEDIF(D154,'1_申込み確認Sheet'!$I$23,\"Y\"))","v":""},null,null,null,null,null,{"$f":"'1_申込み確認Sheet'!$I$6","v":0}]
[]
[75,null,null,null,null,null,{"$f":"IF(D156=\"\",\"\",DATEDIF(D156,'1_申込み確認Sheet'!$I$23,\"Y\"))","v":""},null,null,null,null,null,{"$f":"'1_申込み確認Sheet'!$I$6","v":0}]
[]
[76,null,null,null,null,null,{"$f":"IF(D158=\"\",\"\",DATEDIF(D158,'1_申込み確認Sheet'!$I$23,\"Y\"))","v":""},null,null,null,null,null,{"$f":"'1_申込み確認Sheet'!$I$6","v":0}]
[]
[77,null,null,null,null,null,{"$f":"IF(D160=\"\",\"\",DATEDIF(D160,'1_申込み確認Sheet'!$I$23,\"Y\"))","v":""},null,null,null,null,null,{"$f":"'1_申込み確認Sheet'!$I$6","v":0}]
[]
[78,null,null,null,null,null,{"$f":"IF(D162=\"\",\"\",DATEDIF(D162,'1_申込み確認Sheet'!$I$23,\"Y\"))","v":""},null,null,null,null,null,{"$f":"'1_申込み確認Sheet'!$I$6","v":0}]
[]
[79,null,null,null,null,null,{"$f":"IF(D164=\"\",\"\",DATEDIF(D164,'1_申込み確認Sheet'!$I$23,\"Y\"))","v":""},null,null,null,null,null,{"$f":"'1_申込み確認Sheet'!$I$6","v":0}]
[]
[80,null,null,null,null,null,{"$f":"IF(D166=\"\",\"\",DATEDIF(D166,'1_申込み確認Sheet'!$I$23,\"Y\"))","v":""},null,null,null,null,null,{"$f":"'1_申込み確認Sheet'!$I$6","v":0}]
[]
[81,null,null,null,null,null,{"$f":"IF(D168=\"\",\"\",DATEDIF(D168,'1_申込み確認Sheet'!$I$23,\"Y\"))","v":""},null,null,null,null,null,{"$f":"'1_申込み確認Sheet'!$I$6","v":0}]
[]
[82,null,null,null,null,null,{"$f":"IF(D170=\"\",\"\",DATEDIF(D170,'1_申込み確認Sheet'!$I$23,\"Y\"))","v":""},null,null,null,null,null,{"$f":"'1_申込み確認Sheet'!$I$6","v":0}]
[]
[83,null,null,null,null,null,{"$f":"IF(D172=\"\",\"\",DATEDIF(D172,'1_申込み確認Sheet'!$I$23,\"Y\"))","v":""},null,null,null,null,null,{"$f":"'1_申込み確認Sheet'!$I$6","v":0}]
[]
[84,null,null,null,null,null,{"$f":"IF(D174=\"\",\"\",DATEDIF(D174,'1_申込み確認Sheet'!$I$23,\"Y\"))","v":""},null,null,null,null,null,{"$f":"'1_申込み確認Sheet'!$I$6","v":0}]
[]
[85,null,null,null,null,null,{"$f":"IF(D176=\"\",\"\",DATEDIF(D176,'1_申込み確認Sheet'!$I$23,\"Y\"))","v":""},null,null,null,null,null,{"$f":"'1_申込み確認Sheet'!$I$6","v":0}]
[]
[86,null,null,null,null,null,{"$f":"IF(D178=\"\",\"\",DATEDIF(D178,'1_申込み確認Sheet'!$I$23,\"Y\"))","v":""},null,null,null,null,null,{"$f":"'1_申込み確認Sheet'!$I$6","v":0}]
[]
[87,null,null,null,null,null,{"$f":"IF(D180=\"\",\"\",DATEDIF(D180,'1_申込み確認Sheet'!$I$23,\"Y\"))","v":""},null,null,null,null,null,{"$f":"'1_申込み確認Sheet'!$I$6","v":0}]
[]
[88,null,null,null,null,null,{"$f":"IF(D182=\"\",\"\",DATEDIF(D182,'1_申込み確認Sheet'!$I$23,\"Y\"))","v":""},null,null,null,null,null,{"$f":"'1_申込み確認Sheet'!$I$6","v":0}]
[]
[89,null,null,null,null,null,{"$f":"IF(D184=\"\",\"\",DATEDIF(D184,'1_申込み確認Sheet'!$I$23,\"Y\"))","v":""},null,null,null,null,null,{"$f":"'1_申込み確認Sheet'!$I$6","v":0}]
[]
[90,null,null,null,null,null,{"$f":"IF(D186=\"\",\"\",DATEDIF(D186,'1_申込み確認Sheet'!$I$23,\"Y\"))","v":""},null,null,null,null,null,{"$f":"'1_申込み確認Sheet'!$I$6","v":0}]
[]
[91,null,null,null,null,null,{"$f":"IF(D188=\"\",\"\",DATEDIF(D188,'1_申込み確認Sheet'!$I$23,\"Y\"))","v":""},null,null,null,null,null,{"$f":"'1_申込み確認Sheet'!$I$6","v":0}]
[]
[92,null,null,null,null,null,{"$f":"IF(D190=\"\",\"\",DATEDIF(D190,'1_申込み確認Sheet'!$I$23,\"Y\"))","v":""},null,null,null,null,null,{"$f":"'1_申込み確認Sheet'!$I$6","v":0}]
[]
[93,null,null,null,null,null,{"$f":"IF(D192=\"\",\"\",DATEDIF(D192,'1_申込み確認Sheet'!$I$23,\"Y\"))","v":""},null,null,null,null,null,{"$f":"'1_申込み確認Sheet'!$I$6","v":0}]
[]
[94,null,null,null,null,null,{"$f":"IF(D194=\"\",\"\",DATEDIF(D194,'1_申込み確認Sheet'!$I$23,\"Y\"))","v":""},null,null,null,null,null,{"$f":"'1_申込み確認Sheet'!$I$6","v":0}]
[]
[95,null,null,null,null,null,{"$f":"IF(D196=\"\",\"\",DATEDIF(D196,'1_申込み確認Sheet'!$I$23,\"Y\"))","v":""},null,null,null,null,null,{"$f":"'1_申込み確認Sheet'!$I$6","v":0}]
[]
[96,null,null,null,null,null,{"$f":"IF(D198=\"\",\"\",DATEDIF(D198,'1_申込み確認Sheet'!$I$23,\"Y\"))","v":""},null,null,null,null,null,{"$f":"'1_申込み確認Sheet'!$I$6","v":0}]
[]
[97,null,null,null,null,null,{"$f":"IF(D200=\"\",\"\",DATEDIF(D200,'1_申込み確認Sheet'!$I$23,\"Y\"))","v":""},null,null,null,null,null,{"$f":"'1_申込み確認Sheet'!$I$6","v":0}]
[]
[98,null,null,null,null,null,{"$f":"IF(D202=\"\",\"\",DATEDIF(D202,'1_申込み確認Sheet'!$I$23,\"Y\"))","v":""},null,null,null,null,null,{"$f":"'1_申込み確認Sheet'!$I$6","v":0}]
[]
[99,null,null,null,null,null,{"$f":"IF(D204=\"\",\"\",DATEDIF(D204,'1_申込み確認Sheet'!$I$23,\"Y\"))","v":""},null,null,null,null,null,{"$f":"'1_申込み確認Sheet'!$I$6","v":0}]
[]
[100,null,null,null,null,null,{"$f":"IF(D206=\"\",\"\",DATEDIF(D206,'1_申込み確認Sheet'!$I$23,\"Y\"))","v":""},null,null,null,null,null,{"$f":"'1_申込み確認Sheet'!$I$6","v":0}]

{"sheet":"5_公認段申込書","index":5,"n_rows":17,"n_cols":12,"rows_kept":17,"cut":false,"hidden":false,"merged":[[15,1,15,9],[16,1,16,7],[16,8,16,9],[10,8,10,9],[13,1,13,9],[14,1,14,2],[14,3,14,4],[14,5,14,9],[6,8,8,9],[11,1,11,9],[12,0,13,0],[12,2,12,9],[0,0,0,9],[1,7,2,7],[1,8,2,9],[3,7,3,9],[6,1,6,5],[7,1,7,5],[9,1,9,7],[9,8,9,9],[10,1,10,7],[8,1,8,5],[6,6,8,7]]}
["公 認 段 位 受 審 申 込 書",null,null,null,null,null,null,null,null,null,null,0]
[null,null,null,null,null,null,null,"受審\n番号"]
[]
[null,null,null,null,null,null,null,"（記入しないでください）",null,null,null,"開始Ｎｏ"]
["宮城県空手道連盟",null,null,null,null,null,null,null,null,null,null,"終了Ｎｏ"]
["会長　西村　明宏","殿"]
["申請日",{"$f":"'1_申込み確認Sheet'!$I$23","v":"00:00:00"},null,null,null,null,"受審\n段位",null,{"$f":"VLOOKUP($L$1,'4_公認段申込Sheet'!$A$8:$N$207,11,1)","v":{"$error":"#N/A"}},null,null,"　"]
["審査日",{"$f":"'1_申込み確認Sheet'!$I$27","v":"2021-03-07"}]
["会員番号",{"$f":"VLOOKUP($L$1,'4_公認段申込Sheet'!$A$8:$N$207,2,1)","v":{"$error":"#N/A"}}]
["ふりがな",{"$f":"VLOOKUP($L$1,'4_公認段申込Sheet'!$A$8:$N$207,3,0)","v":{"$error":"#N/A"}},null,null,null,null,null,null,"性別"]
["氏名",{"$f":"INDEX('4_公認段申込Sheet'!$C$8:$C$207,MATCH('5_公認段申込書'!$L$1,'4_公認段申込Sheet'!$A$8:$A$207,0)+1)","v":{"$error":"#N/A"}},null,null,null,null,null,null,{"$f":"VLOOKUP($L$1,'4_公認段申込Sheet'!$A$8:$N$207,6,0)","v":{"$error":"#N/A"}}]
["生年月日",{"$f":"VLOOKUP($L$1,'4_公認段申込Sheet'!$A$8:$N$207,4,0)","v":{"$error":"#N/A"}}]
["現住所","〒",{"$f":"VLOOKUP($L$1,'4_公認段申込Sheet'!$A$8:$N$207,8,0)","v":{"$error":"#N/A"}}]
[null,{"$f":"INDEX('4_公認段申込Sheet'!$H$8:$H$207,MATCH('5_公認段申込書'!$L$1,'4_公認段申込Sheet'!$A$8:$A$207,0)+1)","v":{"$error":"#N/A"}}]
["現在級位",{"$f":"VLOOKUP($L$1,'4_公認段申込Sheet'!A8:N207,9,0)","v":{"$error":"#N/A"}},null,"取得年月日",null,{"$f":"VLOOKUP($L$1,'4_公認段申込Sheet'!$A$8:$N$207,10,1)","v":{"$error":"#N/A"}}]
["支部名",{"$f":"'1_申込み確認Sheet'!$I$6","v":0}]
["支部長名",{"$f":"'1_申込み確認Sheet'!$I$8","v":0},null,null,null,null,null,null,"印"]

{"sheet":"送付先","index":6,"n_rows":4,"n_cols":6,"rows_kept":4,"cut":false,"hidden":false,"merged":[]}
["免状送付先"]
[]
["〒番号","住所","支部名","送付先氏名","電話番号","E-mail"]
[{"$f":"'1_申込み確認Sheet'!I10","v":0},{"$f":"'1_申込み確認Sheet'!I12","v":0},{"$f":"'1_申込み確認Sheet'!I6","v":0},{"$f":"'1_申込み確認Sheet'!I14","v":0},{"$f":"'1_申込み確認Sheet'!I16","v":0},{"$f":"'1_申込み確認Sheet'!I18","v":0}]